BEGIN:VCALENDAR
VERSION:2.0
PRODID:-//Porsche Club of America – California Central Coast Region - ECPv6.15.11//NONSGML v1.0//EN
CALSCALE:GREGORIAN
METHOD:PUBLISH
X-WR-CALNAME:Porsche Club of America – California Central Coast Region
X-ORIGINAL-URL:https://ccc.pca.org
X-WR-CALDESC:Events for Porsche Club of America – California Central Coast Region
REFRESH-INTERVAL;VALUE=DURATION:PT1H
X-Robots-Tag:noindex
X-PUBLISHED-TTL:PT1H
BEGIN:VTIMEZONE
TZID:America/Los_Angeles
BEGIN:DAYLIGHT
TZOFFSETFROM:-0800
TZOFFSETTO:-0700
TZNAME:PDT
DTSTART:20240310T100000
END:DAYLIGHT
BEGIN:STANDARD
TZOFFSETFROM:-0700
TZOFFSETTO:-0800
TZNAME:PST
DTSTART:20241103T090000
END:STANDARD
BEGIN:DAYLIGHT
TZOFFSETFROM:-0800
TZOFFSETTO:-0700
TZNAME:PDT
DTSTART:20250309T100000
END:DAYLIGHT
BEGIN:STANDARD
TZOFFSETFROM:-0700
TZOFFSETTO:-0800
TZNAME:PST
DTSTART:20251102T090000
END:STANDARD
BEGIN:DAYLIGHT
TZOFFSETFROM:-0800
TZOFFSETTO:-0700
TZNAME:PDT
DTSTART:20260308T100000
END:DAYLIGHT
BEGIN:STANDARD
TZOFFSETFROM:-0700
TZOFFSETTO:-0800
TZNAME:PST
DTSTART:20261101T090000
END:STANDARD
BEGIN:DAYLIGHT
TZOFFSETFROM:-0800
TZOFFSETTO:-0700
TZNAME:PDT
DTSTART:20270314T100000
END:DAYLIGHT
BEGIN:STANDARD
TZOFFSETFROM:-0700
TZOFFSETTO:-0800
TZNAME:PST
DTSTART:20271107T090000
END:STANDARD
END:VTIMEZONE
BEGIN:VEVENT
DTSTART;TZID=America/Los_Angeles:20260829T083000
DTEND;TZID=America/Los_Angeles:20260829T103000
DTSTAMP:20260419T133124
CREATED:20260328T015929Z
LAST-MODIFIED:20260328T015929Z
UID:10000126-1787992200-1787999400@ccc.pca.org
SUMMARY:Cars & Coffee
DESCRIPTION:It’s that time of the month again!! Porsche San Luis Obispo Cars & Coffee will be held the last Saturday of the month between 8:30am and 10:30am. They will provide coffee and donuts\, while YOU provide the cars and conversation! Come for ten minutes; come for two hours! \nNo signup or registration required! Show up anytime between 8:30am and 10:30am at \nPorsche San Luis Obispo \n12100 Los Osos Valley Road \nSan Luis Obispo CA 93405
URL:https://ccc.pca.org/calendar-event/cars-coffee-2/2026-08-29/
LOCATION:Porsche San Luis Obispo\, 12100 Los Osos Valley Rd\, San Luis Obispo\, CA\, 93401\, United States
END:VEVENT
BEGIN:VEVENT
DTSTART;TZID=America/Los_Angeles:20260829T080000
DTEND;TZID=America/Los_Angeles:20260829T170000
DTSTAMP:20260419T133124
CREATED:20251230T195559Z
LAST-MODIFIED:20251230T195559Z
UID:10000117-1787990400-1788022800@ccc.pca.org
SUMMARY:AutoX #79
DESCRIPTION:
URL:https://ccc.pca.org/calendar-event/autox-79/
LOCATION:Santa Maria Airport\, 3951 S Blosser Rd\, Santa Maria\, CA\, 93455\, United States
END:VEVENT
BEGIN:VEVENT
DTSTART;TZID=America/Los_Angeles:20260725T083000
DTEND;TZID=America/Los_Angeles:20260725T103000
DTSTAMP:20260419T133124
CREATED:20260328T015929Z
LAST-MODIFIED:20260328T015929Z
UID:10000125-1784968200-1784975400@ccc.pca.org
SUMMARY:Cars & Coffee
DESCRIPTION:It’s that time of the month again!! Porsche San Luis Obispo Cars & Coffee will be held the last Saturday of the month between 8:30am and 10:30am. They will provide coffee and donuts\, while YOU provide the cars and conversation! Come for ten minutes; come for two hours! \nNo signup or registration required! Show up anytime between 8:30am and 10:30am at \nPorsche San Luis Obispo \n12100 Los Osos Valley Road \nSan Luis Obispo CA 93405
URL:https://ccc.pca.org/calendar-event/cars-coffee-2/2026-07-25/
LOCATION:Porsche San Luis Obispo\, 12100 Los Osos Valley Rd\, San Luis Obispo\, CA\, 93401\, United States
END:VEVENT
BEGIN:VEVENT
DTSTART;TZID=America/Los_Angeles:20260718T080000
DTEND;TZID=America/Los_Angeles:20260718T170000
DTSTAMP:20260419T133124
CREATED:20251230T195522Z
LAST-MODIFIED:20251230T195522Z
UID:10000116-1784361600-1784394000@ccc.pca.org
SUMMARY:AutoX #78
DESCRIPTION:
URL:https://ccc.pca.org/calendar-event/autox-78/
LOCATION:Santa Maria Airport\, 3951 S Blosser Rd\, Santa Maria\, CA\, 93455\, United States
END:VEVENT
BEGIN:VEVENT
DTSTART;TZID=America/Los_Angeles:20260629T080000
DTEND;TZID=America/Los_Angeles:20260629T170000
DTSTAMP:20260419T133124
CREATED:20260125T215535Z
LAST-MODIFIED:20260125T220029Z
UID:10000120-1782720000-1782752400@ccc.pca.org
SUMMARY:Driver Education - Weathertech Raceway Laguna Seca
DESCRIPTION:92 db
URL:https://ccc.pca.org/calendar-event/driver-education-weathertech-raceway-laguna-seca/
LOCATION:Laguna Seca\, 1021 Monterey Salinas Hwy\, Salinas\, CA\, 93422\, United States
END:VEVENT
BEGIN:VEVENT
DTSTART;TZID=America/Los_Angeles:20260627T083000
DTEND;TZID=America/Los_Angeles:20260627T103000
DTSTAMP:20260419T133124
CREATED:20260328T015929Z
LAST-MODIFIED:20260328T015929Z
UID:10000124-1782549000-1782556200@ccc.pca.org
SUMMARY:Cars & Coffee
DESCRIPTION:It’s that time of the month again!! Porsche San Luis Obispo Cars & Coffee will be held the last Saturday of the month between 8:30am and 10:30am. They will provide coffee and donuts\, while YOU provide the cars and conversation! Come for ten minutes; come for two hours! \nNo signup or registration required! Show up anytime between 8:30am and 10:30am at \nPorsche San Luis Obispo \n12100 Los Osos Valley Road \nSan Luis Obispo CA 93405
URL:https://ccc.pca.org/calendar-event/cars-coffee-2/2026-06-27/
LOCATION:Porsche San Luis Obispo\, 12100 Los Osos Valley Rd\, San Luis Obispo\, CA\, 93401\, United States
END:VEVENT
BEGIN:VEVENT
DTSTART;TZID=America/Los_Angeles:20260613T080000
DTEND;TZID=America/Los_Angeles:20260613T170000
DTSTAMP:20260419T133124
CREATED:20251230T195446Z
LAST-MODIFIED:20251230T195446Z
UID:10000115-1781337600-1781370000@ccc.pca.org
SUMMARY:AutoX #77
DESCRIPTION:
URL:https://ccc.pca.org/calendar-event/autox-77/
LOCATION:Santa Maria Airport\, 3951 S Blosser Rd\, Santa Maria\, CA\, 93455\, United States
END:VEVENT
BEGIN:VEVENT
DTSTART;TZID=America/Los_Angeles:20260530T083000
DTEND;TZID=America/Los_Angeles:20260530T103000
DTSTAMP:20260419T133124
CREATED:20260328T015929Z
LAST-MODIFIED:20260328T015929Z
UID:10000123-1780129800-1780137000@ccc.pca.org
SUMMARY:Cars & Coffee
DESCRIPTION:It’s that time of the month again!! Porsche San Luis Obispo Cars & Coffee will be held the last Saturday of the month between 8:30am and 10:30am. They will provide coffee and donuts\, while YOU provide the cars and conversation! Come for ten minutes; come for two hours! \nNo signup or registration required! Show up anytime between 8:30am and 10:30am at \nPorsche San Luis Obispo \n12100 Los Osos Valley Road \nSan Luis Obispo CA 93405
URL:https://ccc.pca.org/calendar-event/cars-coffee-2/2026-05-30/
LOCATION:Porsche San Luis Obispo\, 12100 Los Osos Valley Rd\, San Luis Obispo\, CA\, 93401\, United States
END:VEVENT
BEGIN:VEVENT
DTSTART;TZID=America/Los_Angeles:20260517T080000
DTEND;TZID=America/Los_Angeles:20260517T170000
DTSTAMP:20260419T133124
CREATED:20251230T195407Z
LAST-MODIFIED:20251230T195407Z
UID:10000114-1779004800-1779037200@ccc.pca.org
SUMMARY:AutoX - Ladies Only
DESCRIPTION:
URL:https://ccc.pca.org/calendar-event/autox-ladies-only/
LOCATION:Santa Maria Airport\, 3951 S Blosser Rd\, Santa Maria\, CA\, 93455\, United States
END:VEVENT
BEGIN:VEVENT
DTSTART;TZID=America/Los_Angeles:20260516T080000
DTEND;TZID=America/Los_Angeles:20260516T170000
DTSTAMP:20260419T133124
CREATED:20251230T195322Z
LAST-MODIFIED:20251230T195322Z
UID:10000113-1778918400-1778950800@ccc.pca.org
SUMMARY:AutoX #76
DESCRIPTION:
URL:https://ccc.pca.org/calendar-event/autox-76/
LOCATION:Santa Maria Airport\, 3951 S Blosser Rd\, Santa Maria\, CA\, 93455\, United States
END:VEVENT
BEGIN:VEVENT
DTSTART;TZID=America/Los_Angeles:20260501T080000
DTEND;TZID=America/Los_Angeles:20260501T170000
DTSTAMP:20260419T133124
CREATED:20260125T215350Z
LAST-MODIFIED:20260125T221717Z
UID:10000119-1777622400-1777654800@ccc.pca.org
SUMMARY:Driver Education - Buttonwillow Raceway
DESCRIPTION:Join us as we drive the Classic course. Configuration TBD.
URL:https://ccc.pca.org/calendar-event/driver-education-buttonwillow-2/
LOCATION:Buttonwillow Raceway\, 24551 W Lerdo Hwy\, Buttonwillow\, CA\, 93206\, United States
END:VEVENT
BEGIN:VEVENT
DTSTART;TZID=America/Los_Angeles:20260425T083000
DTEND;TZID=America/Los_Angeles:20260425T103000
DTSTAMP:20260419T133124
CREATED:20260328T015929Z
LAST-MODIFIED:20260328T015929Z
UID:10000122-1777105800-1777113000@ccc.pca.org
SUMMARY:Cars & Coffee
DESCRIPTION:It’s that time of the month again!! Porsche San Luis Obispo Cars & Coffee will be held the last Saturday of the month between 8:30am and 10:30am. They will provide coffee and donuts\, while YOU provide the cars and conversation! Come for ten minutes; come for two hours! \nNo signup or registration required! Show up anytime between 8:30am and 10:30am at \nPorsche San Luis Obispo \n12100 Los Osos Valley Road \nSan Luis Obispo CA 93405
URL:https://ccc.pca.org/calendar-event/cars-coffee-2/2026-04-25/
LOCATION:Porsche San Luis Obispo\, 12100 Los Osos Valley Rd\, San Luis Obispo\, CA\, 93401\, United States
END:VEVENT
BEGIN:VEVENT
DTSTART;TZID=America/Los_Angeles:20260418T080000
DTEND;TZID=America/Los_Angeles:20260418T170000
DTSTAMP:20260419T133124
CREATED:20251025T185807Z
LAST-MODIFIED:20251025T185807Z
UID:10000110-1776499200-1776531600@ccc.pca.org
SUMMARY:Drive & Dine: Dresser Winery
DESCRIPTION:Save the date. \nExact details TBD.
URL:https://ccc.pca.org/calendar-event/drive-dine-dresser-winery/
LOCATION:Dresser Winery\, 5530 Dresser Ranch Pl.\, Paso Robles\, CA\, 93446\, United States
END:VEVENT
BEGIN:VEVENT
DTSTART;TZID=America/Los_Angeles:20260412T080000
DTEND;TZID=America/Los_Angeles:20260412T170000
DTSTAMP:20260419T133124
CREATED:20251230T195219Z
LAST-MODIFIED:20251230T195240Z
UID:10000112-1775980800-1776013200@ccc.pca.org
SUMMARY:AutoX #75
DESCRIPTION:
URL:https://ccc.pca.org/calendar-event/autox-75/
LOCATION:Santa Maria Airport\, 3951 S Blosser Rd\, Santa Maria\, CA\, 93455\, United States
END:VEVENT
BEGIN:VEVENT
DTSTART;TZID=America/Los_Angeles:20260411T080000
DTEND;TZID=America/Los_Angeles:20260411T170000
DTSTAMP:20260419T133124
CREATED:20251230T195126Z
LAST-MODIFIED:20251230T195126Z
UID:10000111-1775894400-1775926800@ccc.pca.org
SUMMARY:AutoX Academy
DESCRIPTION:Learn the basics of autocross (AutoX or AX) with classroom and in car learning.
URL:https://ccc.pca.org/calendar-event/autox-academy/
LOCATION:CA
END:VEVENT
BEGIN:VEVENT
DTSTART;TZID=America/Los_Angeles:20260411T080000
DTEND;TZID=America/Los_Angeles:20260411T170000
DTSTAMP:20260419T133124
CREATED:20251025T185612Z
LAST-MODIFIED:20251025T185612Z
UID:10000109-1775894400-1775926800@ccc.pca.org
SUMMARY:Drive & Dine: Norwood Railroad
DESCRIPTION:Save the date. \nExact details TBD. \nNote: we need at least 50 signups for this to make it happen. \nMight have a food truck.
URL:https://ccc.pca.org/calendar-event/drive-dine-norwood-railroad/
LOCATION:CA
END:VEVENT
BEGIN:VEVENT
DTSTART;TZID=America/Los_Angeles:20260328T083000
DTEND;TZID=America/Los_Angeles:20260328T103000
DTSTAMP:20260419T133124
CREATED:20260328T015929Z
LAST-MODIFIED:20260328T015929Z
UID:10000121-1774686600-1774693800@ccc.pca.org
SUMMARY:Cars & Coffee
DESCRIPTION:It’s that time of the month again!! Porsche San Luis Obispo Cars & Coffee will be held the last Saturday of the month between 8:30am and 10:30am. They will provide coffee and donuts\, while YOU provide the cars and conversation! Come for ten minutes; come for two hours! \nNo signup or registration required! Show up anytime between 8:30am and 10:30am at \nPorsche San Luis Obispo \n12100 Los Osos Valley Road \nSan Luis Obispo CA 93405
URL:https://ccc.pca.org/calendar-event/cars-coffee-2/2026-03-28/
LOCATION:Porsche San Luis Obispo\, 12100 Los Osos Valley Rd\, San Luis Obispo\, CA\, 93401\, United States
END:VEVENT
BEGIN:VEVENT
DTSTART;TZID=America/Los_Angeles:20260321T080000
DTEND;TZID=America/Los_Angeles:20260321T170000
DTSTAMP:20260419T133124
CREATED:20251025T185443Z
LAST-MODIFIED:20251025T185443Z
UID:10000108-1774080000-1774112400@ccc.pca.org
SUMMARY:Drive & Dine: China Gourmet
DESCRIPTION:Save the date. \nExact details TBD.
URL:https://ccc.pca.org/calendar-event/drive-dine-china-gourmet-2/
LOCATION:China Gourmet\, 153 Niblick Rd.\, Paso Robles\, CA\, 93446\, United States
END:VEVENT
BEGIN:VEVENT
DTSTART;TZID=America/Los_Angeles:20260314T080000
DTEND;TZID=America/Los_Angeles:20260314T170000
DTSTAMP:20260419T133124
CREATED:20251025T185350Z
LAST-MODIFIED:20251025T185350Z
UID:10000107-1773475200-1773507600@ccc.pca.org
SUMMARY:Drive & Dine: St Patrick's Day At Pappy McGregor's (Tentative)
DESCRIPTION:This event is not yet confirmed. Stay tuned… \n 
URL:https://ccc.pca.org/calendar-event/drive-dine-st-patricks-day-at-pappy-mcgregors-tentative/
LOCATION:CA
END:VEVENT
BEGIN:VEVENT
DTSTART;TZID=America/Los_Angeles:20260221T080000
DTEND;TZID=America/Los_Angeles:20260221T170000
DTSTAMP:20260419T133124
CREATED:20251025T185208Z
LAST-MODIFIED:20251025T185208Z
UID:10000106-1771660800-1771693200@ccc.pca.org
SUMMARY:Drive & Dine: Hunter Ranch
DESCRIPTION:Save the date. \nExact time\, starting point and details TBD.
URL:https://ccc.pca.org/calendar-event/drive-dine-hunter-ranch-2/
LOCATION:CA
END:VEVENT
BEGIN:VEVENT
DTSTART;TZID=America/Los_Angeles:20260207T080000
DTEND;TZID=America/Los_Angeles:20260207T170000
DTSTAMP:20260419T133124
CREATED:20251025T185054Z
LAST-MODIFIED:20251025T185054Z
UID:10000105-1770451200-1770483600@ccc.pca.org
SUMMARY:Valentine's Day Lunch - Buona Tavola
DESCRIPTION:Save the date. \nOur annual Valentine’s Day lunch at an excellent Italian restaurant owned by one of our own members. Reserve early\, this event always sells out. \nStart time and details TBD.
URL:https://ccc.pca.org/calendar-event/valentines-day-lunch-buona-tavola/
LOCATION:Buona Tavola\, 943 Spring St.\, Paso Robles\, CA\, 93422\, United States
END:VEVENT
BEGIN:VEVENT
DTSTART;TZID=America/Los_Angeles:20260124T080000
DTEND;TZID=America/Los_Angeles:20260124T170000
DTSTAMP:20260419T133124
CREATED:20251025T184546Z
LAST-MODIFIED:20251025T184546Z
UID:10000104-1769241600-1769274000@ccc.pca.org
SUMMARY:Rock Chip Armor Shop Lunch 'n Learn
DESCRIPTION:Save the date. \nShop tour  to learn about PPF\, wraps\, window tinting followed by lunch. \nTime and starting point TBD.
URL:https://ccc.pca.org/calendar-event/rock-chip-armor-shop-lunch-n-learn/
LOCATION:Rock Chip Armor\, 2310 Westgate Rd. STE 16\, Santa Maria\, CA\, 93455\, United States
END:VEVENT
BEGIN:VEVENT
DTSTART;TZID=America/Los_Angeles:20260117T080000
DTEND;TZID=America/Los_Angeles:20260117T170000
DTSTAMP:20260419T133124
CREATED:20251025T184249Z
LAST-MODIFIED:20251025T184249Z
UID:10000103-1768636800-1768669200@ccc.pca.org
SUMMARY:Daniels Wood Land
DESCRIPTION:Save the date as we make a return trip to the popular creative home of Daniels Wood Land. \nTime\, starting point TBD.
URL:https://ccc.pca.org/calendar-event/daniels-wood-land/
LOCATION:Daniels Wood Land\, 2125 Ardmore Rd.\, Paso Robles\, CA\, 93446\, United States
END:VEVENT
BEGIN:VEVENT
DTSTART;TZID=America/Los_Angeles:20251213T080000
DTEND;TZID=America/Los_Angeles:20251213T170000
DTSTAMP:20260419T133124
CREATED:20250722T192957Z
LAST-MODIFIED:20250722T192957Z
UID:10000100-1765612800-1765645200@ccc.pca.org
SUMMARY:White Elephant Gift Exchange
DESCRIPTION:Annual White Elephant gag gift exchange held at Porsche SLO.
URL:https://ccc.pca.org/calendar-event/white-elephant-gift-exchange-2/
LOCATION:Porsche San Luis Obispo\, 12100 Los Osos Valley Rd\, San Luis Obispo\, CA\, 93401\, United States
END:VEVENT
BEGIN:VEVENT
DTSTART;TZID=America/Los_Angeles:20251207T173000
DTEND;TZID=America/Los_Angeles:20251207T210000
DTSTAMP:20260419T133124
CREATED:20250306T011030Z
LAST-MODIFIED:20251025T190639Z
UID:10000087-1765128600-1765141200@ccc.pca.org
SUMMARY:Holiday Party
DESCRIPTION:Central Coast PCA \n  \nPlease join us for an evening of \nCelebrations\, Food and Cheer! \n  \nSunday\, December 7\, 2025 \n5:30 pm  \nCafé Roma\, Railroad Square \nM E N U \nInsalata Tri-Colore \nButter lettuce\, radicchio\, endive\, arugula\, blue cheese crumbles\, apples\, candied walnuts\, honey roasted garlic Dijon dressing \nand \nFilet Mignon al Tartufo Nero \n8 oz. prime grilled filet w/black truffle butter and wine reduction \nOR \nPan-Seared Sea Bass PIcatta with Lemon Caper Sauce \nOR \nTortelli di Zucca \nSquash filled ravioli with parmesan cream sauce and fresh sage \nand \nChocolate-Chocolate chip cake with butter cream layers \n  \n$100.00 per person \nNo Host Full Bar \nPlease visit MotorsportReg.com to reserve your seat\, as well as your entree selection choices by November 14th\, 2025. 
URL:https://ccc.pca.org/calendar-event/holiday-party-2/
LOCATION:Cafe Roma\, 1020 Railroad Ave.\, San Luis Obispo\, CA\, 93401\, United States
END:VEVENT
BEGIN:VEVENT
DTSTART;TZID=America/Los_Angeles:20251129T083000
DTEND;TZID=America/Los_Angeles:20251129T110000
DTSTAMP:20260419T133124
CREATED:20250121T010322Z
LAST-MODIFIED:20250121T011540Z
UID:10000076-1764405000-1764414000@ccc.pca.org
SUMMARY:CCCR Cars & Coffee
DESCRIPTION:Cars & Coffee is held on the last Saturday of every month (except Dec.) at Porsche San Luis Obispo.  Drop by between 8:30am to 11am.  Porsche San Luis Obispo provides coffee and donuts.  No registration is required. All makes and models are welcome. Come for ten minutes; come for two hours! \nALERT – RAIN CANCELS C&C !!!! \nNo signup or registration required! Show up anytime between 8:30am and 11:00am at \nPorsche San Luis Obispo \n12100 Los Osos Valley Road \nSan Luis Obispo CA 93405
URL:https://ccc.pca.org/calendar-event/cccr-cars-coffee-7/2025-11-29/
LOCATION:Porsche San Luis Obispo\, 12100 Los Osos Valley Rd\, San Luis Obispo\, CA\, 93401\, United States
ATTACH;FMTTYPE=image/jpeg:https://ccc.pca.org/wp-content/uploads/2024/04/4O6A5367-scaled.jpg
END:VEVENT
BEGIN:VEVENT
DTSTART;TZID=America/Los_Angeles:20251115T090000
DTEND;TZID=America/Los_Angeles:20251115T170000
DTSTAMP:20260419T133124
CREATED:20251025T183600Z
LAST-MODIFIED:20251106T014922Z
UID:10000102-1763197200-1763226000@ccc.pca.org
SUMMARY:Drive & Dine - Andy Winterbottom's Fall Drive
DESCRIPTION:Lunch and mimosas in Cambria. \nMeet at SLO Porsche at 9am\, depart by 9:30am. Drive up Highway 1 to the barriers and back down and have lunch at Mimosas in Cambria.
URL:https://ccc.pca.org/calendar-event/drive-dine-andy-winterbottoms-fall-drive/
LOCATION:CA
END:VEVENT
BEGIN:VEVENT
DTSTART;TZID=America/Los_Angeles:20251108T080000
DTEND;TZID=America/Los_Angeles:20251108T170000
DTSTAMP:20260419T133124
CREATED:20250722T192859Z
LAST-MODIFIED:20250722T192859Z
UID:10000099-1762588800-1762621200@ccc.pca.org
SUMMARY:Drive & Dine - Wines of Tuscany
DESCRIPTION:More info to come.
URL:https://ccc.pca.org/calendar-event/drive-dine-wines-of-tuscany/
LOCATION:CA
END:VEVENT
BEGIN:VEVENT
DTSTART;TZID=America/Los_Angeles:20251101T070000
DTEND;TZID=America/Los_Angeles:20251101T170000
DTSTAMP:20260419T133124
CREATED:20250113T164757Z
LAST-MODIFIED:20250113T165626Z
UID:10000064-1761980400-1762016400@ccc.pca.org
SUMMARY:Driver Education - Buttonwillow International Raceway (Original Track)
DESCRIPTION:
URL:https://ccc.pca.org/calendar-event/nov-1-driver-education-buttonwillow-international-raceway-original-track/
LOCATION:Buttonwillow Raceway\, 24551 W Lerdo Hwy\, Buttonwillow\, CA\, 93206\, United States
END:VEVENT
BEGIN:VEVENT
DTSTART;TZID=America/Los_Angeles:20251025T083000
DTEND;TZID=America/Los_Angeles:20251025T110000
DTSTAMP:20260419T133124
CREATED:20250121T010322Z
LAST-MODIFIED:20250121T011540Z
UID:10000075-1761381000-1761390000@ccc.pca.org
SUMMARY:CCCR Cars & Coffee
DESCRIPTION:Cars & Coffee is held on the last Saturday of every month (except Dec.) at Porsche San Luis Obispo.  Drop by between 8:30am to 11am.  Porsche San Luis Obispo provides coffee and donuts.  No registration is required. All makes and models are welcome. Come for ten minutes; come for two hours! \nALERT – RAIN CANCELS C&C !!!! \nNo signup or registration required! Show up anytime between 8:30am and 11:00am at \nPorsche San Luis Obispo \n12100 Los Osos Valley Road \nSan Luis Obispo CA 93405
URL:https://ccc.pca.org/calendar-event/cccr-cars-coffee-7/2025-10-25/
LOCATION:Porsche San Luis Obispo\, 12100 Los Osos Valley Rd\, San Luis Obispo\, CA\, 93401\, United States
ATTACH;FMTTYPE=image/jpeg:https://ccc.pca.org/wp-content/uploads/2024/04/4O6A5367-scaled.jpg
END:VEVENT
END:VCALENDAR