BEGIN:VCALENDAR
VERSION:2.0
PRODID:-//Porsche Club of America – California Central Coast Region - ECPv6.15.11//NONSGML v1.0//EN
CALSCALE:GREGORIAN
METHOD:PUBLISH
X-WR-CALNAME:Porsche Club of America – California Central Coast Region
X-ORIGINAL-URL:https://ccc.pca.org
X-WR-CALDESC:Events for Porsche Club of America – California Central Coast Region
REFRESH-INTERVAL;VALUE=DURATION:PT1H
X-Robots-Tag:noindex
X-PUBLISHED-TTL:PT1H
BEGIN:VTIMEZONE
TZID:America/Los_Angeles
BEGIN:DAYLIGHT
TZOFFSETFROM:-0800
TZOFFSETTO:-0700
TZNAME:PDT
DTSTART:20230312T100000
END:DAYLIGHT
BEGIN:STANDARD
TZOFFSETFROM:-0700
TZOFFSETTO:-0800
TZNAME:PST
DTSTART:20231105T090000
END:STANDARD
BEGIN:DAYLIGHT
TZOFFSETFROM:-0800
TZOFFSETTO:-0700
TZNAME:PDT
DTSTART:20240310T100000
END:DAYLIGHT
BEGIN:STANDARD
TZOFFSETFROM:-0700
TZOFFSETTO:-0800
TZNAME:PST
DTSTART:20241103T090000
END:STANDARD
BEGIN:DAYLIGHT
TZOFFSETFROM:-0800
TZOFFSETTO:-0700
TZNAME:PDT
DTSTART:20250309T100000
END:DAYLIGHT
BEGIN:STANDARD
TZOFFSETFROM:-0700
TZOFFSETTO:-0800
TZNAME:PST
DTSTART:20251102T090000
END:STANDARD
END:VTIMEZONE
BEGIN:VEVENT
DTSTART;TZID=America/Los_Angeles:20240316T100000
DTEND;TZID=America/Los_Angeles:20240316T140000
DTSTAMP:20260420T102322
CREATED:20240218T012052Z
LAST-MODIFIED:20240313T235433Z
UID:10000025-1710583200-1710597600@ccc.pca.org
SUMMARY:Drive & Dine\, Brooks Burgers\, San Luis Obispo
DESCRIPTION:Yup…..we know Saturday is just a few days away!! It’s going to be a lovely weekend weatherwise\, so fire up the Porsche and head to Porsche San Luis Obispo\, and then to Brooks Burgers for some great food and camaraderie! \nMeet at 10:00am at Porsche San Luis Obispo – Joe Kuntze had prepared two different routes depending on how adventurous folks feel!! Departure will be 10:30-10:45 arriving at Brooks before noontime. \nEveryone will be ordering off the menu so you won’t go home hungry…and there is no registration required. Just show up\, drive\, and then eat! \n 
URL:https://ccc.pca.org/calendar-event/drive-dine-brooks-burgers-san-luis-obispo-3/
LOCATION:Porsche San Luis Obispo\, 12100 Los Osos Valley Rd\, San Luis Obispo\, CA\, 93401\, United States
END:VEVENT
BEGIN:VEVENT
DTSTART;TZID=America/Los_Angeles:20240309T090000
DTEND;TZID=America/Los_Angeles:20240309T150000
DTSTAMP:20260420T102322
CREATED:20240218T012110Z
LAST-MODIFIED:20240309T005316Z
UID:10000026-1709974800-1709996400@ccc.pca.org
SUMMARY:Drive & Dine\, Rustic Fire
DESCRIPTION:CCCR Drive N Dine to Rustic Fire in Paso Robles! \nCCCR Member\, John Gannon\, has invited us back up to his restaurant – Rustic Fire – for an all you can eat buffet!! We will meetup at Porsche San Luis Obispo at 9:00am on Saturday March 9th\, then we will head up to Paso Robles on the back roads to see old Porsche friends and meet new ones\, plus have great Italian food for brunch at Rustic Fire!!! John is putting on an all-you-can-eat extravaganza with various delicious pizzas and salads and soft drinks\, iced tea and water. Beer and wine available for purchase at the counter. Anyone who participated in a Rustic Fire event\, knows the food is wonderful and plentiful!! \n$35.00 per person PAID AT THE RESTAURANT!!  \nRSVP here on MSR for headcount!!! http://msreg.com/cccr-rustic-2024 \nContact Joe Kuntze at:  k708388@aol.com with any questions. \n  \nPlenty of parking (front and back) and seating!!! Directly across the street from Paso Expo Center. See you there!
URL:https://ccc.pca.org/calendar-event/drive-dine-rustic-fire-2/
LOCATION:Rustic Fire\, 1145 24th St D\, Paso Robles\, CA\, 93446\, United States
ATTACH;FMTTYPE=image/png:https://ccc.pca.org/wp-content/uploads/2024/02/Rustic-Fire.png
END:VEVENT
BEGIN:VEVENT
DTSTART;TZID=America/Los_Angeles:20240223T080000
DTEND;TZID=America/Los_Angeles:20240223T170000
DTSTAMP:20260420T102322
CREATED:20240223T170024Z
LAST-MODIFIED:20240223T170024Z
UID:10000027-1708675200-1708707600@ccc.pca.org
SUMMARY:Cars & Coffee
DESCRIPTION:Cars & Coffee at Porsche San Luis Obispo will be held on Saturday\, February 24\, 2024 between 8:30am and 11:00am.  They will provide coffee and donuts\, while YOU provide the cars and conversation! Come for ten minutes; come for two hours! Obviously\, Porsches are the focus but feel free to bring any interesting make/model. Variety is the spice of a C&C!! As you know…….the first C&C in January was a HUGE success! \nNo signup or registration required. Show up anytime between 8:30am and 11:00am at: \nPorsche San Luis Obispo \n12100 Los Osos Valley Road \nSan Luis Obispo CA 93405
URL:https://ccc.pca.org/calendar-event/cars-coffee/
LOCATION:CA
END:VEVENT
END:VCALENDAR