BEGIN:VCALENDAR
VERSION:2.0
PRODID:-//Porsche Club of America – California Central Coast Region - ECPv6.15.11//NONSGML v1.0//EN
CALSCALE:GREGORIAN
METHOD:PUBLISH
X-WR-CALNAME:Porsche Club of America – California Central Coast Region
X-ORIGINAL-URL:https://ccc.pca.org
X-WR-CALDESC:Events for Porsche Club of America – California Central Coast Region
REFRESH-INTERVAL;VALUE=DURATION:PT1H
X-Robots-Tag:noindex
X-PUBLISHED-TTL:PT1H
BEGIN:VTIMEZONE
TZID:America/Los_Angeles
BEGIN:DAYLIGHT
TZOFFSETFROM:-0800
TZOFFSETTO:-0700
TZNAME:PDT
DTSTART:20240310T100000
END:DAYLIGHT
BEGIN:STANDARD
TZOFFSETFROM:-0700
TZOFFSETTO:-0800
TZNAME:PST
DTSTART:20241103T090000
END:STANDARD
BEGIN:DAYLIGHT
TZOFFSETFROM:-0800
TZOFFSETTO:-0700
TZNAME:PDT
DTSTART:20250309T100000
END:DAYLIGHT
BEGIN:STANDARD
TZOFFSETFROM:-0700
TZOFFSETTO:-0800
TZNAME:PST
DTSTART:20251102T090000
END:STANDARD
BEGIN:DAYLIGHT
TZOFFSETFROM:-0800
TZOFFSETTO:-0700
TZNAME:PDT
DTSTART:20260308T100000
END:DAYLIGHT
BEGIN:STANDARD
TZOFFSETFROM:-0700
TZOFFSETTO:-0800
TZNAME:PST
DTSTART:20261101T090000
END:STANDARD
END:VTIMEZONE
BEGIN:VEVENT
DTSTART;TZID=America/Los_Angeles:20250802T080000
DTEND;TZID=America/Los_Angeles:20250802T170000
DTSTAMP:20260419T154329
CREATED:20250608T190920Z
LAST-MODIFIED:20250608T190920Z
UID:10000093-1754121600-1754154000@ccc.pca.org
SUMMARY:Drive & Dine - Pozo Off-Road Adventure
DESCRIPTION:Those of us with 4 wheel drive vehicles that are NOT 911s can take High Mountain Road to Pozo. If you don’t want to drive your vehicle\, let me know and I will try to find a ride for you. Alternatively\, I will arrange an on-road drive. This is a picnic\, so pack a lunch and bring a chair or blanket.
URL:https://ccc.pca.org/calendar-event/drive-dine-pozo-off-road-adventure/
END:VEVENT
BEGIN:VEVENT
DTSTART;TZID=America/Los_Angeles:20250726T083000
DTEND;TZID=America/Los_Angeles:20250726T110000
DTSTAMP:20260419T154329
CREATED:20250121T010322Z
LAST-MODIFIED:20250121T011540Z
UID:10000072-1753518600-1753527600@ccc.pca.org
SUMMARY:CCCR Cars & Coffee
DESCRIPTION:Cars & Coffee is held on the last Saturday of every month (except Dec.) at Porsche San Luis Obispo.  Drop by between 8:30am to 11am.  Porsche San Luis Obispo provides coffee and donuts.  No registration is required. All makes and models are welcome. Come for ten minutes; come for two hours! \nALERT – RAIN CANCELS C&C !!!! \nNo signup or registration required! Show up anytime between 8:30am and 11:00am at \nPorsche San Luis Obispo \n12100 Los Osos Valley Road \nSan Luis Obispo CA 93405
URL:https://ccc.pca.org/calendar-event/cccr-cars-coffee-7/2025-07-26/
LOCATION:Porsche San Luis Obispo\, 12100 Los Osos Valley Rd\, San Luis Obispo\, CA\, 93401\, United States
ATTACH;FMTTYPE=image/jpeg:https://ccc.pca.org/wp-content/uploads/2024/04/4O6A5367-scaled.jpg
END:VEVENT
BEGIN:VEVENT
DTSTART;TZID=America/Los_Angeles:20250726T063000
DTEND;TZID=America/Los_Angeles:20250726T160000
DTSTAMP:20260419T154329
CREATED:20250113T162416Z
LAST-MODIFIED:20250116T013422Z
UID:10000059-1753511400-1753545600@ccc.pca.org
SUMMARY:AX #72
DESCRIPTION:Join us at our autocross (AX) event.  This is a fun sport and a great way to get into performance driving.  All CCCR PCA autocrosses are held at the  located in Santa Maria\, CA.  Event registration is handled at .  Registration opens for PCA members about 5 weeks out from the event; 3 weeks out registration will open to non-PCA.  Expect a full day from 6:30am – 4pm. \nGates open at 6:30am\, it is highly encouraged to arrive no later than 7am; if you arrive after 7 you may not have time to get through tech and/or walk the track.  The gate will be closed and un-staffed by 8am.  You will be asked to sign our waiver at the gate and will be given a small envelope with a wrist band and group run sticker for your windshield.  The front of your envelope will list your run group\, run order\, car # and work assignment.  Unlike past events\, you will need to print and bring your Tech Sheet\, Track Map and Registration Doc (See links below).  After you park\, get your car ready (remove all loose objects\, put on car numbers and run group sticker\, bring your SNELL 2015 or newer helmet) and get to tech ASAP.  Once through tech\, go walk the course\, twice if you can.  Driver’s Meeting will start at 8:30am sharp followed by the first run group \nContact our AX Director Fred Herr at Fred-PCA-CCCR-AX@comcast.net with any questions.
URL:https://ccc.pca.org/calendar-event/july-26-ax-72/
LOCATION:Santa Maria Airport\, 3951 S Blosser Rd\, Santa Maria\, CA\, 93455\, United States
END:VEVENT
BEGIN:VEVENT
DTSTART;TZID=America/Los_Angeles:20250719T090000
DTEND;TZID=America/Los_Angeles:20250719T170000
DTSTAMP:20260419T154329
CREATED:20250722T191945Z
LAST-MODIFIED:20250722T192627Z
UID:10000094-1752915600-1752944400@ccc.pca.org
SUMMARY:Drive & Dine - Primal House
DESCRIPTION:We will meet up at Porsche SLO for a drive through the north county and lunch at the newest hot spot in Tin City. \nMeet at Porsche SLO at 9:00 AM for a 9:30 AM departure.
URL:https://ccc.pca.org/calendar-event/drive-dine-primal-house/
LOCATION:Primal House\, 3330 Ramada Dr.\, Paso Robles\, 93446
END:VEVENT
BEGIN:VEVENT
DTSTART;TZID=America/Los_Angeles:20250712T093000
DTEND;TZID=America/Los_Angeles:20250712T170000
DTSTAMP:20260419T154329
CREATED:20250519T204937Z
LAST-MODIFIED:20250608T190717Z
UID:10000090-1752312600-1752339600@ccc.pca.org
SUMMARY:Drive & Dine: Sushi Chitose
DESCRIPTION:We have visited Germany\, Italy\, and China on our culinary world tour. Time to visit the Land of the Rising Sun. We will meet at Porsche SLO at 930 for a 10 am departure. Destination? Chitose\, a fine Japanese restaurant in Atascadero where we can enjoy a great lunch . Drive some fun and scenic back roads and finish up for lunch at Sushi Chitose. They’ve opened the place up just for us.
URL:https://ccc.pca.org/calendar-event/drive-dine-sushi-chitose/
LOCATION:Sushi Chitose\, 8050 El Camino Real\, Atascadero\, CA\, 93422\, United States
END:VEVENT
BEGIN:VEVENT
DTSTART;TZID=America/Los_Angeles:20250630T080000
DTEND;TZID=America/Los_Angeles:20250630T170000
DTSTAMP:20260419T154329
CREATED:20250605T201354Z
LAST-MODIFIED:20250605T201354Z
UID:10000092-1751270400-1751302800@ccc.pca.org
SUMMARY:Driver Education - WeatherTech Raceway Laguna Seca (92 db)
DESCRIPTION:
URL:https://ccc.pca.org/calendar-event/driver-education-weathertech-raceway-laguna-seca-92-db/
LOCATION:Laguna Seca\, 1021 Monterey Salinas Hwy\, Salinas\, CA\, 93422\, United States
END:VEVENT
BEGIN:VEVENT
DTSTART;TZID=America/Los_Angeles:20250628T083000
DTEND;TZID=America/Los_Angeles:20250628T110000
DTSTAMP:20260419T154329
CREATED:20250121T010322Z
LAST-MODIFIED:20250121T011540Z
UID:10000071-1751099400-1751108400@ccc.pca.org
SUMMARY:CCCR Cars & Coffee
DESCRIPTION:Cars & Coffee is held on the last Saturday of every month (except Dec.) at Porsche San Luis Obispo.  Drop by between 8:30am to 11am.  Porsche San Luis Obispo provides coffee and donuts.  No registration is required. All makes and models are welcome. Come for ten minutes; come for two hours! \nALERT – RAIN CANCELS C&C !!!! \nNo signup or registration required! Show up anytime between 8:30am and 11:00am at \nPorsche San Luis Obispo \n12100 Los Osos Valley Road \nSan Luis Obispo CA 93405
URL:https://ccc.pca.org/calendar-event/cccr-cars-coffee-7/2025-06-28/
LOCATION:Porsche San Luis Obispo\, 12100 Los Osos Valley Rd\, San Luis Obispo\, CA\, 93401\, United States
ATTACH;FMTTYPE=image/jpeg:https://ccc.pca.org/wp-content/uploads/2024/04/4O6A5367-scaled.jpg
END:VEVENT
BEGIN:VEVENT
DTSTART;TZID=America/Los_Angeles:20250621T063000
DTEND;TZID=America/Los_Angeles:20250621T160000
DTSTAMP:20260419T154329
CREATED:20250113T162355Z
LAST-MODIFIED:20250116T013351Z
UID:10000058-1750487400-1750521600@ccc.pca.org
SUMMARY:AX #71
DESCRIPTION:Join us at our autocross (AX) event.  This is a fun sport and a great way to get into performance driving.  All CCCR PCA autocrosses are held at the  located in Santa Maria\, CA.  Event registration is handled at .  Registration opens for PCA members about 5 weeks out from the event; 3 weeks out registration will open to non-PCA.  Expect a full day from 6:30am – 4pm. \nGates open at 6:30am\, it is highly encouraged to arrive no later than 7am; if you arrive after 7 you may not have time to get through tech and/or walk the track.  The gate will be closed and un-staffed by 8am.  You will be asked to sign our waiver at the gate and will be given a small envelope with a wrist band and group run sticker for your windshield.  The front of your envelope will list your run group\, run order\, car # and work assignment.  Unlike past events\, you will need to print and bring your Tech Sheet\, Track Map and Registration Doc (See links below).  After you park\, get your car ready (remove all loose objects\, put on car numbers and run group sticker\, bring your SNELL 2015 or newer helmet) and get to tech ASAP.  Once through tech\, go walk the course\, twice if you can.  Driver’s Meeting will start at 8:30am sharp followed by the first run group \nContact our AX Director Fred Herr at Fred-PCA-CCCR-AX@comcast.net with any questions.
URL:https://ccc.pca.org/calendar-event/june-21-ax-71/
LOCATION:Santa Maria Airport\, 3951 S Blosser Rd\, Santa Maria\, CA\, 93455\, United States
END:VEVENT
BEGIN:VEVENT
DTSTART;TZID=America/Los_Angeles:20250614T090000
DTEND;TZID=America/Los_Angeles:20250614T170000
DTSTAMP:20260419T154329
CREATED:20250519T204614Z
LAST-MODIFIED:20250608T190447Z
UID:10000089-1749891600-1749920400@ccc.pca.org
SUMMARY:Drive & Dine - Ragged Point Brunch
DESCRIPTION:Drive up scenic and historic Hwy 1 to Ragged Point. Let’s meet up at Porsche SLO at 9 am for a drive up the coast.
URL:https://ccc.pca.org/calendar-event/drive-dine-ragged-point-brunch/
END:VEVENT
BEGIN:VEVENT
DTSTART;TZID=America/Los_Angeles:20250531T083000
DTEND;TZID=America/Los_Angeles:20250531T110000
DTSTAMP:20260419T154329
CREATED:20250121T010322Z
LAST-MODIFIED:20250121T011540Z
UID:10000070-1748680200-1748689200@ccc.pca.org
SUMMARY:CCCR Cars & Coffee
DESCRIPTION:Cars & Coffee is held on the last Saturday of every month (except Dec.) at Porsche San Luis Obispo.  Drop by between 8:30am to 11am.  Porsche San Luis Obispo provides coffee and donuts.  No registration is required. All makes and models are welcome. Come for ten minutes; come for two hours! \nALERT – RAIN CANCELS C&C !!!! \nNo signup or registration required! Show up anytime between 8:30am and 11:00am at \nPorsche San Luis Obispo \n12100 Los Osos Valley Road \nSan Luis Obispo CA 93405
URL:https://ccc.pca.org/calendar-event/cccr-cars-coffee-7/2025-05-31/
LOCATION:Porsche San Luis Obispo\, 12100 Los Osos Valley Rd\, San Luis Obispo\, CA\, 93401\, United States
ATTACH;FMTTYPE=image/jpeg:https://ccc.pca.org/wp-content/uploads/2024/04/4O6A5367-scaled.jpg
END:VEVENT
BEGIN:VEVENT
DTSTART;TZID=America/Los_Angeles:20250530T070000
DTEND;TZID=America/Los_Angeles:20250530T170000
DTSTAMP:20260419T154329
CREATED:20250430T164547Z
LAST-MODIFIED:20250306T022147Z
UID:10000062-1748588400-1748624400@ccc.pca.org
SUMMARY:Driver Education - Buttonwillow Raceway (New Track)
DESCRIPTION:
URL:https://ccc.pca.org/calendar-event/april-30-driver-education-buttonwillow-raceway-new-track/
LOCATION:Buttonwillow Raceway\, 24551 W Lerdo Hwy\, Buttonwillow\, CA\, 93206\, United States
END:VEVENT
BEGIN:VEVENT
DTSTART;TZID=America/Los_Angeles:20250524T080000
DTEND;TZID=America/Los_Angeles:20250524T170000
DTSTAMP:20260419T154329
CREATED:20250206T010840Z
LAST-MODIFIED:20250206T010840Z
UID:10000085-1748073600-1748106000@ccc.pca.org
SUMMARY:Drive & Dine: Brunch At Ragged Point
DESCRIPTION:
URL:https://ccc.pca.org/calendar-event/drive-dine-brunch-at-ragged-point/
END:VEVENT
BEGIN:VEVENT
DTSTART;TZID=America/Los_Angeles:20250519T080000
DTEND;TZID=America/Los_Angeles:20250519T170000
DTSTAMP:20260419T154329
CREATED:20250519T204446Z
LAST-MODIFIED:20250519T204446Z
UID:10000088-1747641600-1747674000@ccc.pca.org
SUMMARY:Drive & Dine - Jalama Beach
DESCRIPTION:Drive to the beach for “The best burger in the world.”
URL:https://ccc.pca.org/calendar-event/drive-dine-jalama-beach/
END:VEVENT
BEGIN:VEVENT
DTSTART;TZID=America/Los_Angeles:20250518T063000
DTEND;TZID=America/Los_Angeles:20250518T160000
DTSTAMP:20260419T154329
CREATED:20250113T162321Z
LAST-MODIFIED:20250116T013841Z
UID:10000057-1747549800-1747584000@ccc.pca.org
SUMMARY:"Ladies Only" AX
DESCRIPTION:Join us at our autocross (AX) event.  This is a fun sport and a great way to get into performance driving.  All CCCR PCA autocrosses are held at the  located in Santa Maria\, CA.  Event registration is handled at .  Registration opens for PCA members about 5 weeks out from the event; 3 weeks out registration will open to non-PCA. \nThis will be our first ever “Ladies Only” AX.  The intent is all driver entrants will be ladies only.  We will have our usual AX staff/volunteers there to work the course\, run timing and provide driving instruction when needed.  This event will not have any car classes\, no points awarded\, it is a for fun event. \nContact our AX Director Fred Herr at Fred-PCA-CCCR-AX@comcast.net with any questions.
URL:https://ccc.pca.org/calendar-event/may-18-ladies-only-ax/
LOCATION:Santa Maria Airport\, 3951 S Blosser Rd\, Santa Maria\, CA\, 93455\, United States
END:VEVENT
BEGIN:VEVENT
DTSTART;TZID=America/Los_Angeles:20250517T063000
DTEND;TZID=America/Los_Angeles:20250517T160000
DTSTAMP:20260419T154329
CREATED:20250113T162244Z
LAST-MODIFIED:20250116T013316Z
UID:10000056-1747463400-1747497600@ccc.pca.org
SUMMARY:AX #70
DESCRIPTION:Join us at our autocross (AX) event.  This is a fun sport and a great way to get into performance driving.  All CCCR PCA autocrosses are held at the  located in Santa Maria\, CA.  Event registration is handled at .  Registration opens for PCA members about 5 weeks out from the event; 3 weeks out registration will open to non-PCA.  Expect a full day from 6:30am – 4pm. \nGates open at 6:30am\, it is highly encouraged to arrive no later than 7am; if you arrive after 7 you may not have time to get through tech and/or walk the track.  The gate will be closed and un-staffed by 8am.  You will be asked to sign our waiver at the gate and will be given a small envelope with a wrist band and group run sticker for your windshield.  The front of your envelope will list your run group\, run order\, car # and work assignment.  Unlike past events\, you will need to print and bring your Tech Sheet\, Track Map and Registration Doc (See links below).  After you park\, get your car ready (remove all loose objects\, put on car numbers and run group sticker\, bring your SNELL 2015 or newer helmet) and get to tech ASAP.  Once through tech\, go walk the course\, twice if you can.  Driver’s Meeting will start at 8:30am sharp followed by the first run group \nContact our AX Director Fred Herr at Fred-PCA-CCCR-AX@comcast.net with any questions.
URL:https://ccc.pca.org/calendar-event/may-17-ax-70/
LOCATION:Santa Maria Airport\, 3951 S Blosser Rd\, Santa Maria\, CA\, 93455\, United States
END:VEVENT
BEGIN:VEVENT
DTSTART;TZID=America/Los_Angeles:20250510T080000
DTEND;TZID=America/Los_Angeles:20250510T170000
DTSTAMP:20260419T154329
CREATED:20250206T010731Z
LAST-MODIFIED:20250206T010731Z
UID:10000084-1746864000-1746896400@ccc.pca.org
SUMMARY:Chuckapalooza
DESCRIPTION:
URL:https://ccc.pca.org/calendar-event/chuckapalooza/
LOCATION:Longbranch Saloon\, 6258 Webster\, Creston\, CA\, 93432\, United States
END:VEVENT
BEGIN:VEVENT
DTSTART;TZID=America/Los_Angeles:20250503T080000
DTEND;TZID=America/Los_Angeles:20250503T170000
DTSTAMP:20260419T154329
CREATED:20250205T044213Z
LAST-MODIFIED:20250205T044213Z
UID:10000083-1746259200-1746291600@ccc.pca.org
SUMMARY:Drive & Dine: San Simeon Beach Bar & Grill
DESCRIPTION:
URL:https://ccc.pca.org/calendar-event/drive-dine-san-simeon-beach-bar-grill-2/
LOCATION:San Simeon Beach Bar & Grill\, 9520 Castillo Dr\, San Simeon\, CA\, 93452\, United States
END:VEVENT
BEGIN:VEVENT
DTSTART;TZID=America/Los_Angeles:20250426T083000
DTEND;TZID=America/Los_Angeles:20250426T110000
DTSTAMP:20260419T154329
CREATED:20250121T010322Z
LAST-MODIFIED:20250121T011540Z
UID:10000069-1745656200-1745665200@ccc.pca.org
SUMMARY:CCCR Cars & Coffee
DESCRIPTION:Cars & Coffee is held on the last Saturday of every month (except Dec.) at Porsche San Luis Obispo.  Drop by between 8:30am to 11am.  Porsche San Luis Obispo provides coffee and donuts.  No registration is required. All makes and models are welcome. Come for ten minutes; come for two hours! \nALERT – RAIN CANCELS C&C !!!! \nNo signup or registration required! Show up anytime between 8:30am and 11:00am at \nPorsche San Luis Obispo \n12100 Los Osos Valley Road \nSan Luis Obispo CA 93405
URL:https://ccc.pca.org/calendar-event/cccr-cars-coffee-7/2025-04-26/
LOCATION:Porsche San Luis Obispo\, 12100 Los Osos Valley Rd\, San Luis Obispo\, CA\, 93401\, United States
ATTACH;FMTTYPE=image/jpeg:https://ccc.pca.org/wp-content/uploads/2024/04/4O6A5367-scaled.jpg
END:VEVENT
BEGIN:VEVENT
DTSTART;TZID=America/Los_Angeles:20250419T080000
DTEND;TZID=America/Los_Angeles:20250419T170000
DTSTAMP:20260419T154329
CREATED:20250205T043807Z
LAST-MODIFIED:20250206T011212Z
UID:10000080-1745049600-1745082000@ccc.pca.org
SUMMARY:Picnic: Paso Robles Horse Park
DESCRIPTION:
URL:https://ccc.pca.org/calendar-event/picnic-paso-robles-horse-park/
END:VEVENT
BEGIN:VEVENT
DTSTART;TZID=America/Los_Angeles:20250412T080000
DTEND;TZID=America/Los_Angeles:20250412T170000
DTSTAMP:20260419T154329
CREATED:20250205T044021Z
LAST-MODIFIED:20250205T044021Z
UID:10000082-1744444800-1744477200@ccc.pca.org
SUMMARY:Drive & Dine: Cold Springs Tavern
DESCRIPTION:
URL:https://ccc.pca.org/calendar-event/drive-dine-cold-springs-tavern/
LOCATION:Cold Springs Tavern\, 5995 Stagecoach Rd\, Santa Barbara\, CA\, 93105\, United States
END:VEVENT
BEGIN:VEVENT
DTSTART;TZID=America/Los_Angeles:20250406T063000
DTEND;TZID=America/Los_Angeles:20250406T160000
DTSTAMP:20260419T154329
CREATED:20250113T161446Z
LAST-MODIFIED:20250116T013237Z
UID:10000055-1743921000-1743955200@ccc.pca.org
SUMMARY:AX #69
DESCRIPTION:Join us at our autocross (AX) event.  This is a fun sport and a great way to get into performance driving.  All CCCR PCA autocrosses are held at the  located in Santa Maria\, CA.  Event registration is handled at .  Registration opens for PCA members about 5 weeks out from the event; 3 weeks out registration will open to non-PCA.  Expect a full day from 6:30am – 4pm. \nGates open at 6:30am\, it is highly encouraged to arrive no later than 7am; if you arrive after 7 you may not have time to get through tech and/or walk the track.  The gate will be closed and un-staffed by 8am.  You will be asked to sign our waiver at the gate and will be given a small envelope with a wrist band and group run sticker for your windshield.  The front of your envelope will list your run group\, run order\, car # and work assignment.  Unlike past events\, you will need to print and bring your Tech Sheet\, Track Map and Registration Doc (See links below).  After you park\, get your car ready (remove all loose objects\, put on car numbers and run group sticker\, bring your SNELL 2015 or newer helmet) and get to tech ASAP.  Once through tech\, go walk the course\, twice if you can.  Driver’s Meeting will start at 8:30am sharp followed by the first run group \nContact our AX Director Fred Herr at Fred-PCA-CCCR-AX@comcast.net with any questions.
URL:https://ccc.pca.org/calendar-event/april-6-ax-69/
LOCATION:Santa Maria Airport\, 3951 S Blosser Rd\, Santa Maria\, CA\, 93455\, United States
END:VEVENT
BEGIN:VEVENT
DTSTART;TZID=America/Los_Angeles:20250405T080000
DTEND;TZID=America/Los_Angeles:20250405T170000
DTSTAMP:20260419T154329
CREATED:20250205T043859Z
LAST-MODIFIED:20250205T043859Z
UID:10000081-1743840000-1743872400@ccc.pca.org
SUMMARY:Wines of Germany and Brats Central Coast School of Wine
DESCRIPTION:
URL:https://ccc.pca.org/calendar-event/wines-of-germany-and-brats-central-coast-school-of-wine/
END:VEVENT
BEGIN:VEVENT
DTSTART;TZID=America/Los_Angeles:20250405T070000
DTEND;TZID=America/Los_Angeles:20250405T160000
DTSTAMP:20260419T154329
CREATED:20250113T160822Z
LAST-MODIFIED:20250116T013609Z
UID:10000054-1743836400-1743868800@ccc.pca.org
SUMMARY:Annual AX Academy
DESCRIPTION:Join us at our autocross (AX) event.  This is a fun sport and a great way to get into performance driving.  All CCCR PCA autocrosses are held at the  located in Santa Maria\, CA.  Event registration is handled at .  Registration opens for PCA members about 5 weeks out from the event; 3 weeks out registration will open to non-PCA.  Expect a full day from 7am – 4pm. \nThe season opens with our annual AX Academy.  While any experience level will learn from this\, it is really intended for the novice autocrosser.  If you’ve never done AX\, never done any high performance driving and want to safely get into the sport\, this is the Academy for you.  Expect 1.5 hr of classroom instruction followed by hours of on course driving with one on one coaching.  We go through several exercises focusing on specific skill sets followed by runs of a full AX course. \nContact our AX Director Fred Herr at Fred-PCA-CCCR-AX@comcast.net with any questions.
URL:https://ccc.pca.org/calendar-event/april-5-annual-ax-academy/
END:VEVENT
BEGIN:VEVENT
DTSTART;TZID=America/Los_Angeles:20250329T083000
DTEND;TZID=America/Los_Angeles:20250329T110000
DTSTAMP:20260419T154329
CREATED:20250121T010921Z
LAST-MODIFIED:20250121T010928Z
UID:10000068-1743237000-1743246000@ccc.pca.org
SUMMARY:CCCR Cars & Coffee
DESCRIPTION:Cars & Coffee is held on the last Saturday of every month (except Dec.) at Porsche San Luis Obispo.  Drop by between 8:30am to 11am.  Porsche San Luis Obispo provides refreshments.  No registration is required. All makes and models are welcome.
URL:https://ccc.pca.org/calendar-event/cccr-cars-coffee-10/
LOCATION:Porsche San Luis Obispo\, 12100 Los Osos Valley Rd\, San Luis Obispo\, CA\, 93401\, United States
ATTACH;FMTTYPE=image/jpeg:https://ccc.pca.org/wp-content/uploads/2024/04/4O6A5367-scaled.jpg
END:VEVENT
BEGIN:VEVENT
DTSTART;TZID=America/Los_Angeles:20250315T080000
DTEND;TZID=America/Los_Angeles:20250315T170000
DTSTAMP:20260419T154329
CREATED:20250205T043726Z
LAST-MODIFIED:20250205T043726Z
UID:10000079-1742025600-1742058000@ccc.pca.org
SUMMARY:Drive & Dine: Woodstone Deli
DESCRIPTION:
URL:https://ccc.pca.org/calendar-event/drive-dine-woodstone-deli/
LOCATION:Woodstone Deli\, 6675 Bay Laurel Pl\, Avila Beach\, CA\, 93424\, United States
END:VEVENT
BEGIN:VEVENT
DTSTART;TZID=America/Los_Angeles:20250301T080000
DTEND;TZID=America/Los_Angeles:20250301T170000
DTSTAMP:20260419T154329
CREATED:20250206T011033Z
LAST-MODIFIED:20250206T011033Z
UID:10000086-1740816000-1740848400@ccc.pca.org
SUMMARY:Drive & Dine: China Gourmet
DESCRIPTION:
URL:https://ccc.pca.org/calendar-event/drive-dine-china-gourmet/
LOCATION:China Gourmet\, 153 Niblick Rd.\, Paso Robles\, CA\, 93446\, United States
END:VEVENT
BEGIN:VEVENT
DTSTART;TZID=America/Los_Angeles:20250222T083000
DTEND;TZID=America/Los_Angeles:20250222T110000
DTSTAMP:20260419T154329
CREATED:20250121T010838Z
LAST-MODIFIED:20250121T010852Z
UID:10000067-1740213000-1740222000@ccc.pca.org
SUMMARY:CCCR Cars & Coffee
DESCRIPTION:Cars & Coffee is held on the last Saturday of every month (except Dec.) at Porsche San Luis Obispo.  Drop by between 8:30am to 11am.  Porsche San Luis Obispo provides refreshments.  No registration is required. All makes and models are welcome.
URL:https://ccc.pca.org/calendar-event/cccr-cars-coffee-9/
LOCATION:Porsche San Luis Obispo\, 12100 Los Osos Valley Rd\, San Luis Obispo\, CA\, 93401\, United States
ATTACH;FMTTYPE=image/jpeg:https://ccc.pca.org/wp-content/uploads/2024/04/4O6A5367-scaled.jpg
END:VEVENT
BEGIN:VEVENT
DTSTART;TZID=America/Los_Angeles:20250215T080000
DTEND;TZID=America/Los_Angeles:20250215T170000
DTSTAMP:20260419T154329
CREATED:20250216T043535Z
LAST-MODIFIED:20250206T012908Z
UID:10000078-1739606400-1739638800@ccc.pca.org
SUMMARY:Shop Tour Veracity Racing - Dave & Ellen Ferguson
DESCRIPTION:
URL:https://ccc.pca.org/calendar-event/shop-tour-dave-dellen-ferguson/
END:VEVENT
BEGIN:VEVENT
DTSTART;TZID=America/Los_Angeles:20250208T080000
DTEND;TZID=America/Los_Angeles:20250208T170000
DTSTAMP:20260419T154329
CREATED:20250209T043405Z
LAST-MODIFIED:20250205T044534Z
UID:10000077-1739001600-1739034000@ccc.pca.org
SUMMARY:Drive & Dine: Sweetheart Lunch At Bueno Tavola
DESCRIPTION:
URL:https://ccc.pca.org/calendar-event/drive-dine-sweetheart-lunch-at-bueno-tavola/
LOCATION:Buona Tavola\, 943 Spring St.\, Paso Robles\, CA\, 93422\, United States
END:VEVENT
BEGIN:VEVENT
DTSTART;TZID=America/Los_Angeles:20250125T083000
DTEND;TZID=America/Los_Angeles:20250125T110000
DTSTAMP:20260419T154329
CREATED:20250121T010322Z
LAST-MODIFIED:20250121T011540Z
UID:10000066-1737793800-1737802800@ccc.pca.org
SUMMARY:CCCR Cars & Coffee
DESCRIPTION:Cars & Coffee is held on the last Saturday of every month (except Dec.) at Porsche San Luis Obispo.  Drop by between 8:30am to 11am.  Porsche San Luis Obispo provides coffee and donuts.  No registration is required. All makes and models are welcome. Come for ten minutes; come for two hours! \nALERT – RAIN CANCELS C&C !!!! \nNo signup or registration required! Show up anytime between 8:30am and 11:00am at \nPorsche San Luis Obispo \n12100 Los Osos Valley Road \nSan Luis Obispo CA 93405
URL:https://ccc.pca.org/calendar-event/cccr-cars-coffee-7/2025-01-25/
LOCATION:Porsche San Luis Obispo\, 12100 Los Osos Valley Rd\, San Luis Obispo\, CA\, 93401\, United States
ATTACH;FMTTYPE=image/jpeg:https://ccc.pca.org/wp-content/uploads/2024/04/4O6A5367-scaled.jpg
END:VEVENT
END:VCALENDAR