BEGIN:VCALENDAR
VERSION:2.0
PRODID:-//Porsche Club of America – California Central Coast Region - ECPv6.15.11//NONSGML v1.0//EN
CALSCALE:GREGORIAN
METHOD:PUBLISH
X-WR-CALNAME:Porsche Club of America – California Central Coast Region
X-ORIGINAL-URL:https://ccc.pca.org
X-WR-CALDESC:Events for Porsche Club of America – California Central Coast Region
REFRESH-INTERVAL;VALUE=DURATION:PT1H
X-Robots-Tag:noindex
X-PUBLISHED-TTL:PT1H
BEGIN:VTIMEZONE
TZID:America/Los_Angeles
BEGIN:DAYLIGHT
TZOFFSETFROM:-0800
TZOFFSETTO:-0700
TZNAME:PDT
DTSTART:20230312T100000
END:DAYLIGHT
BEGIN:STANDARD
TZOFFSETFROM:-0700
TZOFFSETTO:-0800
TZNAME:PST
DTSTART:20231105T090000
END:STANDARD
BEGIN:DAYLIGHT
TZOFFSETFROM:-0800
TZOFFSETTO:-0700
TZNAME:PDT
DTSTART:20240310T100000
END:DAYLIGHT
BEGIN:STANDARD
TZOFFSETFROM:-0700
TZOFFSETTO:-0800
TZNAME:PST
DTSTART:20241103T090000
END:STANDARD
BEGIN:DAYLIGHT
TZOFFSETFROM:-0800
TZOFFSETTO:-0700
TZNAME:PDT
DTSTART:20250309T100000
END:DAYLIGHT
BEGIN:STANDARD
TZOFFSETFROM:-0700
TZOFFSETTO:-0800
TZNAME:PST
DTSTART:20251102T090000
END:STANDARD
END:VTIMEZONE
BEGIN:VTIMEZONE
TZID:America/Los_Angeles
BEGIN:DAYLIGHT
TZOFFSETFROM:-0800
TZOFFSETTO:-0700
TZNAME:PDT
DTSTART:20230312T100000
END:DAYLIGHT
BEGIN:STANDARD
TZOFFSETFROM:-0700
TZOFFSETTO:-0800
TZNAME:PST
DTSTART:20231105T090000
END:STANDARD
BEGIN:DAYLIGHT
TZOFFSETFROM:-0800
TZOFFSETTO:-0700
TZNAME:PDT
DTSTART:20240310T100000
END:DAYLIGHT
BEGIN:STANDARD
TZOFFSETFROM:-0700
TZOFFSETTO:-0800
TZNAME:PST
DTSTART:20241103T090000
END:STANDARD
BEGIN:DAYLIGHT
TZOFFSETFROM:-0800
TZOFFSETTO:-0700
TZNAME:PDT
DTSTART:20250309T100000
END:DAYLIGHT
BEGIN:STANDARD
TZOFFSETFROM:-0700
TZOFFSETTO:-0800
TZNAME:PST
DTSTART:20251102T090000
END:STANDARD
END:VTIMEZONE
BEGIN:VEVENT
DTSTART;TZID=America/Los_Angeles:20241101T080000
DTEND;TZID=America/Los_Angeles:20241101T170000
DTSTAMP:20260419T205732
CREATED:20240408T004056Z
LAST-MODIFIED:20240408T004056Z
UID:10000045-1730448000-1730480400@ccc.pca.org
SUMMARY:Driver Education - Buttonwillow Raceway
DESCRIPTION:
URL:https://ccc.pca.org/calendar-event/driver-education-buttonwillow-raceway-2/
LOCATION:Buttonwillow Raceway\, 24551 W Lerdo Hwy\, Buttonwillow\, CA\, 93206\, United States
END:VEVENT
BEGIN:VEVENT
DTSTART;TZID=America/Los_Angeles:20241026T113000
DTEND;TZID=America/Los_Angeles:20241026T150000
DTSTAMP:20260419T205732
CREATED:20240408T003923Z
LAST-MODIFIED:20241008T204514Z
UID:10000044-1729942200-1729954800@ccc.pca.org
SUMMARY:New Member BBQ
DESCRIPTION:CCCR Annual New Member BBQ!!!!! \nJoin your friends and meet all our New Members at a very special BBQ to celebrate YOU as members of the California Central Coast Region!! It has been a banner year for New Members joining CCCR\, so we hope as many as possible can participate in the BBQ! \nALL CCCR ONLY MEMBERS ARE WELCOME and the event is FREE to all IF you complete your registration on MSR. \nThis year we are going to try something unique and different…..it’s going to have a Halloween theme…..like dressing up in your favorite costume or decorating your car or BOTH!! Prizes will be awarded in both categories! \nWe are again being graciously hosted by longtime CCCR member Jason Len – and his wife Bonnie – at their expansive property in Arroyo Grande. Jason has a large area for parking and Porsche display!! He will also give us a tour of his restoration shop and motorcycle and car collection!! \nThe Sea Shanty will be providing BBQ Tri-tip and chicken with salads\, bread\, and beverages. \nThe festivities begin at 11:30am arrival time. Lunch begins 12:00-12:15pm \nYour MSR confirmation email will display a yellow On Hold flag. We will verify all registrations to make sure everyone is a CCCR member……then you will receive a confirmed email. \nREGISTER HERE \nWe are looking for CCCR members who would volunteer to assist in parking cars at Jason’s along with other tasks. We have been averaging about 90+ cars onsite for previous NMBBQs\, so it would be of great help to have volunteers to help with the parking/wrangling! Please email Gil Igleheart at the address below \nOrganizer is Activities Chair\, Gil Igleheart\, email gil.igleheart@gmail.com with questions.
URL:https://ccc.pca.org/calendar-event/new-member-bbq/
LOCATION:CA
END:VEVENT
BEGIN:VEVENT
DTSTART;VALUE=DATE:20241019
DTEND;VALUE=DATE:20241020
DTSTAMP:20260419T205732
CREATED:20240218T011348Z
LAST-MODIFIED:20250113T165837Z
UID:10000003-1729296000-1729382399@ccc.pca.org
SUMMARY:Autocross #66\, Santa Maria
DESCRIPTION:
URL:https://ccc.pca.org/calendar-event/autocross-68-santa-maria/
LOCATION:CA
END:VEVENT
BEGIN:VEVENT
DTSTART;TZID=America/Los_Angeles:20241005T080000
DTEND;TZID=America/Los_Angeles:20241005T170000
DTSTAMP:20260419T205732
CREATED:20240408T003845Z
LAST-MODIFIED:20240408T003845Z
UID:10000043-1728115200-1728147600@ccc.pca.org
SUMMARY:Drive & Dine - Paso Robles Brewery (Octoberfest)
DESCRIPTION:
URL:https://ccc.pca.org/calendar-event/drive-dine-paso-robles-brewery-octoberfest/
LOCATION:Paso Robles Brewery\, 201 Spring St\, Paso Robles\, 93446\, United States
END:VEVENT
BEGIN:VEVENT
DTSTART;TZID=America/Los_Angeles:20240928T083000
DTEND;TZID=America/Los_Angeles:20240928T110000
DTSTAMP:20260419T205732
CREATED:20240408T001531Z
LAST-MODIFIED:20240408T001531Z
UID:10000036-1727512200-1727521200@ccc.pca.org
SUMMARY:CCCR Cars & Coffee
DESCRIPTION:Cars & Coffee is held on the last Saturday of every month at Porsche San Luis Obispo.  Drop by between 8:30am to 11am.  Porsche San Luis Obispo provides refreshments.  No registration required. All makes and models welcome.
URL:https://ccc.pca.org/calendar-event/cccr-cars-coffee-6/
LOCATION:Porsche San Luis Obispo\, 12100 Los Osos Valley Rd\, San Luis Obispo\, CA\, 93401\, United States
ATTACH;FMTTYPE=image/jpeg:https://ccc.pca.org/wp-content/uploads/2024/04/4O6A5367-scaled.jpg
END:VEVENT
BEGIN:VEVENT
DTSTART;VALUE=DATE:20240921
DTEND;VALUE=DATE:20240922
DTSTAMP:20260419T205732
CREATED:20240218T011513Z
LAST-MODIFIED:20240408T003639Z
UID:10000006-1726876800-1726963199@ccc.pca.org
SUMMARY:55th Anniversary Party
DESCRIPTION:
URL:https://ccc.pca.org/calendar-event/drive-dine-san-simeon-beach-bar-grill/
LOCATION:CA
END:VEVENT
BEGIN:VEVENT
DTSTART;VALUE=DATE:20240914
DTEND;VALUE=DATE:20240915
DTSTAMP:20260419T205732
CREATED:20240218T011528Z
LAST-MODIFIED:20240630T000819Z
UID:10000007-1726272000-1726358399@ccc.pca.org
SUMMARY:Autocross #66\, Santa Maria
DESCRIPTION:
URL:https://ccc.pca.org/calendar-event/autocross-67-santa-maria/
LOCATION:CA
END:VEVENT
BEGIN:VEVENT
DTSTART;TZID=America/Los_Angeles:20240831T083000
DTEND;TZID=America/Los_Angeles:20240831T110000
DTSTAMP:20260419T205732
CREATED:20240408T001425Z
LAST-MODIFIED:20240408T001425Z
UID:10000035-1725093000-1725102000@ccc.pca.org
SUMMARY:CCCR Cars & Coffee
DESCRIPTION:Cars & Coffee is held on the last Saturday of every month at Porsche San Luis Obispo.  Drop by between 8:30am to 11am.  Porsche San Luis Obispo provides refreshments.  No registration required. All makes and models welcome.
URL:https://ccc.pca.org/calendar-event/cccr-cars-coffee-5/
LOCATION:Porsche San Luis Obispo\, 12100 Los Osos Valley Rd\, San Luis Obispo\, CA\, 93401\, United States
ATTACH;FMTTYPE=image/jpeg:https://ccc.pca.org/wp-content/uploads/2024/04/4O6A5367-scaled.jpg
END:VEVENT
BEGIN:VEVENT
DTSTART;TZID=America/Los_Angeles:20240814T080000
DTEND;TZID=America/Los_Angeles:20240814T170000
DTSTAMP:20260419T205732
CREATED:20240408T003522Z
LAST-MODIFIED:20240408T003522Z
UID:10000042-1723622400-1723654800@ccc.pca.org
SUMMARY:Wine Down - Clesi Winery
DESCRIPTION:
URL:https://ccc.pca.org/calendar-event/wine-down-clesi-winery/
LOCATION:Clesi Winery\, 1873 Templeton Rd\, Templeton\, CA\, 93465\, United States
END:VEVENT
BEGIN:VEVENT
DTSTART;TZID=America/Los_Angeles:20240728T080000
DTEND;TZID=America/Los_Angeles:20240728T170000
DTSTAMP:20260419T205732
CREATED:20240410T175240Z
LAST-MODIFIED:20240630T000804Z
UID:10000049-1722153600-1722186000@ccc.pca.org
SUMMARY:AutoX #65 - Santa Maria
DESCRIPTION:
URL:https://ccc.pca.org/calendar-event/autox-santa-maria/
LOCATION:CA
END:VEVENT
BEGIN:VEVENT
DTSTART;TZID=America/Los_Angeles:20240727T083000
DTEND;TZID=America/Los_Angeles:20240727T110000
DTSTAMP:20260419T205732
CREATED:20240408T001333Z
LAST-MODIFIED:20240408T001333Z
UID:10000034-1722069000-1722078000@ccc.pca.org
SUMMARY:CCCR Cars & Coffee
DESCRIPTION:Cars & Coffee is held on the last Saturday of every month at Porsche San Luis Obispo.  Drop by between 8:30am to 11am.  Porsche San Luis Obispo provides refreshments.  No registration required. All makes and models welcome.
URL:https://ccc.pca.org/calendar-event/cccr-cars-coffee-4/
LOCATION:Porsche San Luis Obispo\, 12100 Los Osos Valley Rd\, San Luis Obispo\, CA\, 93401\, United States
ATTACH;FMTTYPE=image/jpeg:https://ccc.pca.org/wp-content/uploads/2024/04/4O6A5367-scaled.jpg
END:VEVENT
BEGIN:VEVENT
DTSTART;VALUE=DATE:20240727
DTEND;VALUE=DATE:20240728
DTSTAMP:20260419T205732
CREATED:20240218T011640Z
LAST-MODIFIED:20240410T174715Z
UID:10000011-1722038400-1722124799@ccc.pca.org
SUMMARY:Autocross Academy\, Santa Maria
DESCRIPTION:AX Academy  \nOur Austocross Academy is scheduled for Saturday April 13th.  The Academy is limited to just 30 students\, don’t delay your registration.  With just 30 students\, you will get lots of one on one instruction and many laps on course to learn and progress your driving skills.  This is a great way to dip your toes into AX or just learn more about your current driving ability and how your vehicle handles performance driving.  If you’ve been on the fence\, now is the time to do it.  This is a safe and controlled environment to learn what you and your car can do.  The Academy will begin with classroom instruction followed by an afternoon of driving on a controlled course with your instructor.  Course instruction will start with exercises of individual AX elements followed by runs of a full AX course.  You will leave having learned more about your capability\, your areas for improvement and what your vehicle is capable of.
URL:https://ccc.pca.org/calendar-event/autocross-66-santa-maria/
LOCATION:CA
END:VEVENT
BEGIN:VEVENT
DTSTART;TZID=America/Los_Angeles:20240725T080000
DTEND;TZID=America/Los_Angeles:20240725T170000
DTSTAMP:20260419T205732
CREATED:20240725T153410Z
LAST-MODIFIED:20240725T153410Z
UID:10000051-1721894400-1721926800@ccc.pca.org
SUMMARY:Drive & Dine - Hunter Ranch
DESCRIPTION:Details to come.
URL:https://ccc.pca.org/calendar-event/drive-dine-hunter-ranch/
LOCATION:Hunter Ranch Golf Course & Restaurant\, 4041 CA-46\, Paso Robles\, 93446\, United States
END:VEVENT
BEGIN:VEVENT
DTSTART;TZID=America/Los_Angeles:20240723T170000
DTEND;TZID=America/Los_Angeles:20240723T203000
DTSTAMP:20260419T205732
CREATED:20240715T175328Z
LAST-MODIFIED:20240715T175435Z
UID:10000050-1721754000-1721766600@ccc.pca.org
SUMMARY:Dinner at the Allegretto Vineyard Resort
DESCRIPTION:On TUESDAY July 23\, 2024\, join your fellow Porschephiles for a drive through the tawny hills of San Luis Obispo county\, to the renowned Allegretto Vineyard Resort in Paso Robles for an al fresco dinner!! \nWe will meet at Porsche San Luis Obispo at 5:00pm for a 5:30pm departure and take a leisurely tour of some of north counties back roads; winding up at the beautiful Allegretto Resort. \nRegister at the link below.
URL:https://ccc.pca.org/calendar-event/dinner-at-the-allegretto-vineyard-resort/
LOCATION:CA
END:VEVENT
BEGIN:VEVENT
DTSTART;VALUE=DATE:20240720
DTEND;VALUE=DATE:20240721
DTSTAMP:20260419T205732
CREATED:20240218T011701Z
LAST-MODIFIED:20240715T174814Z
UID:10000012-1721433600-1721519999@ccc.pca.org
SUMMARY:Drive & Dine\, Longbranch Saloon Dinner\, Creston
DESCRIPTION:Details and registration HERE
URL:https://ccc.pca.org/calendar-event/drive-dine-longbranch-saloon-dinner-creston/
LOCATION:CA
END:VEVENT
BEGIN:VEVENT
DTSTART;TZID=America/Los_Angeles:20240717T080000
DTEND;TZID=America/Los_Angeles:20240717T170000
DTSTAMP:20260419T205732
CREATED:20240408T002836Z
LAST-MODIFIED:20240408T002836Z
UID:10000041-1721203200-1721235600@ccc.pca.org
SUMMARY:Wine Down - Shadow Run Vineyards & Winery
DESCRIPTION:
URL:https://ccc.pca.org/calendar-event/wine-down-shadow-run-vineyards-winery/
LOCATION:Shadow Run Vineyards & Winery\, 2720 La Panza Rd\, Creston\, CA\, 93432\, United States
END:VEVENT
BEGIN:VEVENT
DTSTART;TZID=America/Los_Angeles:20240629T083000
DTEND;TZID=America/Los_Angeles:20240629T110000
DTSTAMP:20260419T205732
CREATED:20240408T001110Z
LAST-MODIFIED:20240408T001110Z
UID:10000032-1719649800-1719658800@ccc.pca.org
SUMMARY:CCCR Cars & Coffee
DESCRIPTION:Cars & Coffee is held on the last Saturday of every month at Porsche San Luis Obispo.  Drop by between 8:30am to 11am.  Porsche San Luis Obispo provides refreshments.  No registration required. All makes and models welcome.
URL:https://ccc.pca.org/calendar-event/cccr-cars-coffee-2/
LOCATION:Porsche San Luis Obispo\, 12100 Los Osos Valley Rd\, San Luis Obispo\, CA\, 93401\, United States
ATTACH;FMTTYPE=image/jpeg:https://ccc.pca.org/wp-content/uploads/2024/04/4O6A5367-scaled.jpg
END:VEVENT
BEGIN:VEVENT
DTSTART;TZID=America/Los_Angeles:20240626T080000
DTEND;TZID=America/Los_Angeles:20240626T170000
DTSTAMP:20260419T205732
CREATED:20240408T002442Z
LAST-MODIFIED:20240408T002442Z
UID:10000040-1719388800-1719421200@ccc.pca.org
SUMMARY:Wine Down - Still Waters Vineyards
DESCRIPTION:
URL:https://ccc.pca.org/calendar-event/wine-down-still-waters-vineyards/
LOCATION:Still Waters Winery\, 2750 Old Grove Ln\, Paso Robles\, CA\, 93446\, United States
END:VEVENT
BEGIN:VEVENT
DTSTART;TZID=America/Los_Angeles:20240622T080000
DTEND;TZID=America/Los_Angeles:20240622T170000
DTSTAMP:20260419T205732
CREATED:20240408T002037Z
LAST-MODIFIED:20240408T002037Z
UID:10000039-1719043200-1719075600@ccc.pca.org
SUMMARY:Drive & Dine - Tolosa Winery
DESCRIPTION:
URL:https://ccc.pca.org/calendar-event/drive-dine-tolosa-winery/
LOCATION:CA
END:VEVENT
BEGIN:VEVENT
DTSTART;VALUE=DATE:20240622
DTEND;VALUE=DATE:20240623
DTSTAMP:20260419T205732
CREATED:20240218T011717Z
LAST-MODIFIED:20240630T000721Z
UID:10000013-1719014400-1719100799@ccc.pca.org
SUMMARY:Autocross #64\, Santa Maria
DESCRIPTION:
URL:https://ccc.pca.org/calendar-event/autocross-65-santa-maria/
LOCATION:CA
END:VEVENT
BEGIN:VEVENT
DTSTART;VALUE=DATE:20240616
DTEND;VALUE=DATE:20240617
DTSTAMP:20260419T205732
CREATED:20240218T011737Z
LAST-MODIFIED:20240504T211452Z
UID:10000014-1718496000-1718582399@ccc.pca.org
SUMMARY:Driver Education\, Laguna Seca
DESCRIPTION:
URL:https://ccc.pca.org/calendar-event/driver-education-laguna-seca/
LOCATION:CA
END:VEVENT
BEGIN:VEVENT
DTSTART;VALUE=DATE:20240616
DTEND;VALUE=DATE:20240617
DTSTAMP:20260419T205732
CREATED:20240218T011303Z
LAST-MODIFIED:20240311T010352Z
UID:10000002-1718496000-1718582399@ccc.pca.org
SUMMARY:Driver Education - Laguna Seca
DESCRIPTION:California Central Coast Region has just opened the registration for a Drivers Education Event at the famous Laguna Seca Weather Tech Raceway. This is 92DB day set for June 16th\, 2024. As usual\, we will have four run groups; novice\, intermediate\, advanced intermediate\, and advanced. As per PCA rules\, all sessions will be point-by passing. Novice drivers are more than welcome. Instructors will be available on a first come first served basis. Last year we had a record 22 students! If you have not tried the new track surface\, this is your chance. Many drivers are seeing 3 to 4-second faster lap times. For registration\, please go to:  https://click.pstmrk.it/3ts/click.pstmrk.it%2F3ts%2Fwww.motorsportreg.com%252Fevents%252Fcccr-laguna-seca-de-june-16th-2024-weathertech-raceway-pca-california-184216%2FcP88%2FI_SzAQ%2FAQ%2Fc27328ba-ed72-4954-971d-9dbd61913d58%2F1%2FHj8-gypZjv/cP88/MuSzAQ/AQ/a2ce087a-323c-4681-9ba0-065c759bec34/1/rD-tC_UnPE\n\nA Parade Lap session will be run at noon time. Participants will follow a pace car for 25 minutes of track time. Passengers are welcome\, helmets are not required. Please register at the corrected link: https://click.pstmrk.it/3ts/click.pstmrk.it%2F3ts%2Fwww.motorsportreg.com%252Fevents%252Fcccr-june-16th-2024-laguna-seca-parade-lap-weathertech-raceway-pca-051524%2FcP88%2FI_SzAQ%2FAQ%2Fc27328ba-ed72-4954-971d-9dbd61913d58%2F2%2F8nM3_pNXSA/cP88/MuSzAQ/AQ/a2ce087a-323c-4681-9ba0-065c759bec34/2/UxzUqNkyhq
URL:https://ccc.pca.org/calendar-event/driver-education-buttonwillow/
LOCATION:Laguna Seca\, 1021 Monterey Salinas Hwy\, Salinas\, CA\, 93422\, United States
ATTACH;FMTTYPE=image/jpeg:https://ccc.pca.org/wp-content/uploads/2024/02/Laguna-Seca-9-26-22-scaled.jpg
END:VEVENT
BEGIN:VEVENT
DTSTART;TZID=America/Los_Angeles:20240525T083000
DTEND;TZID=America/Los_Angeles:20240525T110000
DTSTAMP:20260419T205732
CREATED:20240408T001234Z
LAST-MODIFIED:20240408T001234Z
UID:10000033-1716625800-1716634800@ccc.pca.org
SUMMARY:CCCR Cars & Coffee
DESCRIPTION:Cars & Coffee is held on the last Saturday of every month at Porsche San Luis Obispo.  Drop by between 8:30am to 11am.  Porsche San Luis Obispo provides refreshments.  No registration required. All makes and models welcome.
URL:https://ccc.pca.org/calendar-event/cccr-cars-coffee-3/
LOCATION:Porsche San Luis Obispo\, 12100 Los Osos Valley Rd\, San Luis Obispo\, CA\, 93401\, United States
ATTACH;FMTTYPE=image/jpeg:https://ccc.pca.org/wp-content/uploads/2024/04/4O6A5367-scaled.jpg
END:VEVENT
BEGIN:VEVENT
DTSTART;VALUE=DATE:20240511
DTEND;VALUE=DATE:20240512
DTSTAMP:20260419T205732
CREATED:20240218T011830Z
LAST-MODIFIED:20240218T011830Z
UID:10000017-1715385600-1715471999@ccc.pca.org
SUMMARY:Autocross #64\, Santa Maria
DESCRIPTION:
URL:https://ccc.pca.org/calendar-event/autocross-64-santa-maria/
LOCATION:CA
END:VEVENT
BEGIN:VEVENT
DTSTART;VALUE=DATE:20240503
DTEND;VALUE=DATE:20240504
DTSTAMP:20260419T205732
CREATED:20240311T012837Z
LAST-MODIFIED:20240311T013759Z
UID:10000029-1714694400-1714780799@ccc.pca.org
SUMMARY:Driver Education - Buttonwillow Raceway
DESCRIPTION:Spring is right around the corner along with the start of the racetrack season. California Central Coast Region PCA will have our first Drivers Education event on May 3rd at Buttonwillow Raceway. Registration is now open at CCCR DE Buttonwillow May 3rd 2024. We limit the cars to only 25 per session\, don’t hesitate to sign up soon\, this event could fill quickly. We will have four run groups; Beginner\, Intermediate\, Advanced and Expert. As usual\, we will have plenty of PCA-registered instructors to help new drivers. PCA does require anyone with less than four days of high-speed driving experience\, to have an instructor\, or have been signed off by an instructor.\n\n\nIf you would like more than just one day at the track\, Golden Gate Region will have a two-day event immediately after our event on May 4th and 5th. You can register at PCA-GGR DE 3 / TT 2 – Duel in the Desert\n\n\nCome to the track Thursday\, May 2nd for early registration\, safety check and a dinner at the Raceway Café\, trackside at Buttonwillow Raceway. We’ll have chicken and steak fajitas\, beans\, and rice with all the fixings.\n\n\nWe also will have the Parade Lap session at noon for those who would like to experience a professional racetrack at slower speeds. Thirty minutes of track time in your own car following an experienced driver at speeds less than 70mph. No helmets or safety equipment needed. It is so safe you can bring your family in the car with you. You can register at CCCR 2024 Buttonwillow Raceway Parade Lap Session \n\n\nIf you have any questions\, please free to call me at 805 431-0919 or email at Aircooled911sc@gmail.com\n\nSee you on the track!\nBob Bruington\nCCCR DE Chair
URL:https://ccc.pca.org/calendar-event/driver-education-buttonwillow-raceway/
LOCATION:Buttonwillow Raceway\, 24551 W Lerdo Hwy\, Buttonwillow\, CA\, 93206\, United States
ATTACH;FMTTYPE=image/jpeg:https://ccc.pca.org/wp-content/uploads/2024/03/Buttonwillow-Porsche-Grid.jpg
END:VEVENT
BEGIN:VEVENT
DTSTART;TZID=America/Los_Angeles:20240427T083000
DTEND;TZID=America/Los_Angeles:20240427T110000
DTSTAMP:20260419T205732
CREATED:20240408T000733Z
LAST-MODIFIED:20240408T000916Z
UID:10000031-1714206600-1714215600@ccc.pca.org
SUMMARY:CCCR Cars & Coffee
DESCRIPTION:Cars & Coffee is held on the last Saturday of every month at Porsche San Luis Obispo.  Drop by between 8:30am to 11am.  Porsche San Luis Obispo provides refreshments.  No registration required. All makes and models are welcome.
URL:https://ccc.pca.org/calendar-event/cccr-cars-coffee/
LOCATION:Porsche San Luis Obispo\, 12100 Los Osos Valley Rd\, San Luis Obispo\, CA\, 93401\, United States
ATTACH;FMTTYPE=image/jpeg:https://ccc.pca.org/wp-content/uploads/2024/04/4O6A5367-scaled.jpg
END:VEVENT
BEGIN:VEVENT
DTSTART;VALUE=DATE:20240422
DTEND;VALUE=DATE:20240423
DTSTAMP:20260419T205732
CREATED:20240218T011916Z
LAST-MODIFIED:20240218T011916Z
UID:10000020-1713744000-1713830399@ccc.pca.org
SUMMARY:Annual Healdsburg Trip
DESCRIPTION:
URL:https://ccc.pca.org/calendar-event/annual-healdsburg-trip/
LOCATION:CA
END:VEVENT
BEGIN:VEVENT
DTSTART;TZID=America/Los_Angeles:20240420T080000
DTEND;TZID=America/Los_Angeles:20240420T170000
DTSTAMP:20260419T205732
CREATED:20240408T000126Z
LAST-MODIFIED:20240408T000126Z
UID:10000030-1713600000-1713632400@ccc.pca.org
SUMMARY:Drive & Dine - Paso Robles Brewing Company
DESCRIPTION:
URL:https://ccc.pca.org/calendar-event/drive-dine-paso-robles-brewing-company/
LOCATION:Paso Robles Brewery\, 201 Spring St\, Paso Robles\, 93446\, United States
END:VEVENT
BEGIN:VEVENT
DTSTART;VALUE=DATE:20240414
DTEND;VALUE=DATE:20240415
DTSTAMP:20260419T205732
CREATED:20240218T011937Z
LAST-MODIFIED:20240410T174306Z
UID:10000021-1713052800-1713139199@ccc.pca.org
SUMMARY:Autocross #63\, Santa Maria - RESCHEDULED to JULY 28
DESCRIPTION:RESCHEDULED DUE TO RAIN – NEW DATE – JULY 28
URL:https://ccc.pca.org/calendar-event/autocross-63-santa-maria/
LOCATION:CA
END:VEVENT
BEGIN:VEVENT
DTSTART;VALUE=DATE:20240413
DTEND;VALUE=DATE:20240414
DTSTAMP:20260419T205732
CREATED:20240218T011952Z
LAST-MODIFIED:20240410T174150Z
UID:10000022-1712966400-1713052799@ccc.pca.org
SUMMARY:Autocross Academy - RESCHEDULED for July 27
DESCRIPTION:AX Academy – RESCHEDULED DUE TO RAIN – NEW DATE – JULY 27 \nOur AX Academy is scheduled for Saturday April 13th.  The Academy is limited to just 30 students\, don’t delay your registration.  With just 30 students\, you will get lots of one on one instruction and many laps on course to learn and progress your driving skills.  This is a great way to dip your toes into AX or just learn more about your current driving ability and how your vehicle handles performance driving.  If you’ve been on the fence\, now is the time to do it.  This is a safe and controlled environment to learn what you and your car can do.  The Academy will begin with classroom instruction followed by an afternoon of driving on a controlled course with your instructor.  Course instruction will start with exercises of individual AX elements followed by runs of a full AX course.  You will leave having learned more about your capability\, your areas for improvement and what your vehicle is capable of.
URL:https://ccc.pca.org/calendar-event/autocross-academy/
LOCATION:CA
END:VEVENT
END:VCALENDAR