BEGIN:VCALENDAR
VERSION:2.0
PRODID:-//Porsche Club of America – California Central Coast Region - ECPv6.15.11//NONSGML v1.0//EN
CALSCALE:GREGORIAN
METHOD:PUBLISH
X-ORIGINAL-URL:https://ccc.pca.org
X-WR-CALDESC:Events for Porsche Club of America – California Central Coast Region
REFRESH-INTERVAL;VALUE=DURATION:PT1H
X-Robots-Tag:noindex
X-PUBLISHED-TTL:PT1H
BEGIN:VTIMEZONE
TZID:America/Los_Angeles
BEGIN:DAYLIGHT
TZOFFSETFROM:-0800
TZOFFSETTO:-0700
TZNAME:PDT
DTSTART:20240310T100000
END:DAYLIGHT
BEGIN:STANDARD
TZOFFSETFROM:-0700
TZOFFSETTO:-0800
TZNAME:PST
DTSTART:20241103T090000
END:STANDARD
BEGIN:DAYLIGHT
TZOFFSETFROM:-0800
TZOFFSETTO:-0700
TZNAME:PDT
DTSTART:20250309T100000
END:DAYLIGHT
BEGIN:STANDARD
TZOFFSETFROM:-0700
TZOFFSETTO:-0800
TZNAME:PST
DTSTART:20251102T090000
END:STANDARD
BEGIN:DAYLIGHT
TZOFFSETFROM:-0800
TZOFFSETTO:-0700
TZNAME:PDT
DTSTART:20260308T100000
END:DAYLIGHT
BEGIN:STANDARD
TZOFFSETFROM:-0700
TZOFFSETTO:-0800
TZNAME:PST
DTSTART:20261101T090000
END:STANDARD
END:VTIMEZONE
BEGIN:VEVENT
DTSTART;TZID=America/Los_Angeles:20250208T080000
DTEND;TZID=America/Los_Angeles:20250208T170000
DTSTAMP:20260423T220807
CREATED:20250209T043405Z
LAST-MODIFIED:20250205T044534Z
UID:10000077-1739001600-1739034000@ccc.pca.org
SUMMARY:Drive & Dine: Sweetheart Lunch At Bueno Tavola
DESCRIPTION:
URL:https://ccc.pca.org/calendar-event/drive-dine-sweetheart-lunch-at-bueno-tavola/
LOCATION:Buona Tavola\, 943 Spring St.\, Paso Robles\, CA\, 93422\, United States
END:VEVENT
BEGIN:VEVENT
DTSTART;TZID=America/Los_Angeles:20250215T080000
DTEND;TZID=America/Los_Angeles:20250215T170000
DTSTAMP:20260423T220807
CREATED:20250216T043535Z
LAST-MODIFIED:20250206T012908Z
UID:10000078-1739606400-1739638800@ccc.pca.org
SUMMARY:Shop Tour Veracity Racing - Dave & Ellen Ferguson
DESCRIPTION:
URL:https://ccc.pca.org/calendar-event/shop-tour-dave-dellen-ferguson/
LOCATION:CA
END:VEVENT
BEGIN:VEVENT
DTSTART;TZID=America/Los_Angeles:20250222T083000
DTEND;TZID=America/Los_Angeles:20250222T110000
DTSTAMP:20260423T220807
CREATED:20250121T010838Z
LAST-MODIFIED:20250121T010852Z
UID:10000067-1740213000-1740222000@ccc.pca.org
SUMMARY:CCCR Cars & Coffee
DESCRIPTION:Cars & Coffee is held on the last Saturday of every month (except Dec.) at Porsche San Luis Obispo.  Drop by between 8:30am to 11am.  Porsche San Luis Obispo provides refreshments.  No registration is required. All makes and models are welcome.
URL:https://ccc.pca.org/calendar-event/cccr-cars-coffee-9/
LOCATION:Porsche San Luis Obispo\, 12100 Los Osos Valley Rd\, San Luis Obispo\, CA\, 93401\, United States
ATTACH;FMTTYPE=image/jpeg:https://ccc.pca.org/wp-content/uploads/2024/04/4O6A5367-scaled.jpg
END:VEVENT
END:VCALENDAR