BEGIN:VCALENDAR
VERSION:2.0
PRODID:-//Porsche Club of America – California Central Coast Region - ECPv6.15.11//NONSGML v1.0//EN
CALSCALE:GREGORIAN
METHOD:PUBLISH
X-ORIGINAL-URL:https://ccc.pca.org
X-WR-CALDESC:Events for Porsche Club of America – California Central Coast Region
REFRESH-INTERVAL;VALUE=DURATION:PT1H
X-Robots-Tag:noindex
X-PUBLISHED-TTL:PT1H
BEGIN:VTIMEZONE
TZID:America/Los_Angeles
BEGIN:DAYLIGHT
TZOFFSETFROM:-0800
TZOFFSETTO:-0700
TZNAME:PDT
DTSTART:20240310T100000
END:DAYLIGHT
BEGIN:STANDARD
TZOFFSETFROM:-0700
TZOFFSETTO:-0800
TZNAME:PST
DTSTART:20241103T090000
END:STANDARD
BEGIN:DAYLIGHT
TZOFFSETFROM:-0800
TZOFFSETTO:-0700
TZNAME:PDT
DTSTART:20250309T100000
END:DAYLIGHT
BEGIN:STANDARD
TZOFFSETFROM:-0700
TZOFFSETTO:-0800
TZNAME:PST
DTSTART:20251102T090000
END:STANDARD
BEGIN:DAYLIGHT
TZOFFSETFROM:-0800
TZOFFSETTO:-0700
TZNAME:PDT
DTSTART:20260308T100000
END:DAYLIGHT
BEGIN:STANDARD
TZOFFSETFROM:-0700
TZOFFSETTO:-0800
TZNAME:PST
DTSTART:20261101T090000
END:STANDARD
END:VTIMEZONE
BEGIN:VEVENT
DTSTART;TZID=America/Los_Angeles:20250712T093000
DTEND;TZID=America/Los_Angeles:20250712T170000
DTSTAMP:20260423T031204
CREATED:20250519T204937Z
LAST-MODIFIED:20250608T190717Z
UID:10000090-1752312600-1752339600@ccc.pca.org
SUMMARY:Drive & Dine: Sushi Chitose
DESCRIPTION:We have visited Germany\, Italy\, and China on our culinary world tour. Time to visit the Land of the Rising Sun. We will meet at Porsche SLO at 930 for a 10 am departure. Destination? Chitose\, a fine Japanese restaurant in Atascadero where we can enjoy a great lunch . Drive some fun and scenic back roads and finish up for lunch at Sushi Chitose. They’ve opened the place up just for us.
URL:https://ccc.pca.org/calendar-event/drive-dine-sushi-chitose/
LOCATION:Sushi Chitose\, 8050 El Camino Real\, Atascadero\, CA\, 93422\, United States
END:VEVENT
BEGIN:VEVENT
DTSTART;TZID=America/Los_Angeles:20250719T090000
DTEND;TZID=America/Los_Angeles:20250719T170000
DTSTAMP:20260423T031204
CREATED:20250722T191945Z
LAST-MODIFIED:20250722T192627Z
UID:10000094-1752915600-1752944400@ccc.pca.org
SUMMARY:Drive & Dine - Primal House
DESCRIPTION:We will meet up at Porsche SLO for a drive through the north county and lunch at the newest hot spot in Tin City. \nMeet at Porsche SLO at 9:00 AM for a 9:30 AM departure.
URL:https://ccc.pca.org/calendar-event/drive-dine-primal-house/
LOCATION:Primal House\, 3330 Ramada Dr.\, Paso Robles\, 93446
END:VEVENT
BEGIN:VEVENT
DTSTART;TZID=America/Los_Angeles:20250726T063000
DTEND;TZID=America/Los_Angeles:20250726T160000
DTSTAMP:20260423T031204
CREATED:20250113T162416Z
LAST-MODIFIED:20250116T013422Z
UID:10000059-1753511400-1753545600@ccc.pca.org
SUMMARY:AX #72
DESCRIPTION:Join us at our autocross (AX) event.  This is a fun sport and a great way to get into performance driving.  All CCCR PCA autocrosses are held at the  located in Santa Maria\, CA.  Event registration is handled at .  Registration opens for PCA members about 5 weeks out from the event; 3 weeks out registration will open to non-PCA.  Expect a full day from 6:30am – 4pm. \nGates open at 6:30am\, it is highly encouraged to arrive no later than 7am; if you arrive after 7 you may not have time to get through tech and/or walk the track.  The gate will be closed and un-staffed by 8am.  You will be asked to sign our waiver at the gate and will be given a small envelope with a wrist band and group run sticker for your windshield.  The front of your envelope will list your run group\, run order\, car # and work assignment.  Unlike past events\, you will need to print and bring your Tech Sheet\, Track Map and Registration Doc (See links below).  After you park\, get your car ready (remove all loose objects\, put on car numbers and run group sticker\, bring your SNELL 2015 or newer helmet) and get to tech ASAP.  Once through tech\, go walk the course\, twice if you can.  Driver’s Meeting will start at 8:30am sharp followed by the first run group \nContact our AX Director Fred Herr at Fred-PCA-CCCR-AX@comcast.net with any questions.
URL:https://ccc.pca.org/calendar-event/july-26-ax-72/
LOCATION:Santa Maria Airport\, 3951 S Blosser Rd\, Santa Maria\, CA\, 93455\, United States
END:VEVENT
BEGIN:VEVENT
DTSTART;TZID=America/Los_Angeles:20250726T083000
DTEND;TZID=America/Los_Angeles:20250726T110000
DTSTAMP:20260423T031204
CREATED:20250121T010322Z
LAST-MODIFIED:20250121T011540Z
UID:10000072-1753518600-1753527600@ccc.pca.org
SUMMARY:CCCR Cars & Coffee
DESCRIPTION:Cars & Coffee is held on the last Saturday of every month (except Dec.) at Porsche San Luis Obispo.  Drop by between 8:30am to 11am.  Porsche San Luis Obispo provides coffee and donuts.  No registration is required. All makes and models are welcome. Come for ten minutes; come for two hours! \nALERT – RAIN CANCELS C&C !!!! \nNo signup or registration required! Show up anytime between 8:30am and 11:00am at \nPorsche San Luis Obispo \n12100 Los Osos Valley Road \nSan Luis Obispo CA 93405
URL:https://ccc.pca.org/calendar-event/cccr-cars-coffee-7/2025-07-26/
LOCATION:Porsche San Luis Obispo\, 12100 Los Osos Valley Rd\, San Luis Obispo\, CA\, 93401\, United States
ATTACH;FMTTYPE=image/jpeg:https://ccc.pca.org/wp-content/uploads/2024/04/4O6A5367-scaled.jpg
END:VEVENT
END:VCALENDAR