BEGIN:VCALENDAR
VERSION:2.0
PRODID:-//Porsche Club of America – California Central Coast Region - ECPv6.15.11//NONSGML v1.0//EN
CALSCALE:GREGORIAN
METHOD:PUBLISH
X-ORIGINAL-URL:https://ccc.pca.org
X-WR-CALDESC:Events for Porsche Club of America – California Central Coast Region
REFRESH-INTERVAL;VALUE=DURATION:PT1H
X-Robots-Tag:noindex
X-PUBLISHED-TTL:PT1H
BEGIN:VTIMEZONE
TZID:America/Los_Angeles
BEGIN:DAYLIGHT
TZOFFSETFROM:-0800
TZOFFSETTO:-0700
TZNAME:PDT
DTSTART:20240310T100000
END:DAYLIGHT
BEGIN:STANDARD
TZOFFSETFROM:-0700
TZOFFSETTO:-0800
TZNAME:PST
DTSTART:20241103T090000
END:STANDARD
BEGIN:DAYLIGHT
TZOFFSETFROM:-0800
TZOFFSETTO:-0700
TZNAME:PDT
DTSTART:20250309T100000
END:DAYLIGHT
BEGIN:STANDARD
TZOFFSETFROM:-0700
TZOFFSETTO:-0800
TZNAME:PST
DTSTART:20251102T090000
END:STANDARD
BEGIN:DAYLIGHT
TZOFFSETFROM:-0800
TZOFFSETTO:-0700
TZNAME:PDT
DTSTART:20260308T100000
END:DAYLIGHT
BEGIN:STANDARD
TZOFFSETFROM:-0700
TZOFFSETTO:-0800
TZNAME:PST
DTSTART:20261101T090000
END:STANDARD
END:VTIMEZONE
BEGIN:VEVENT
DTSTART;TZID=America/Los_Angeles:20250906T090000
DTEND;TZID=America/Los_Angeles:20250906T170000
DTSTAMP:20260422T151356
CREATED:20250722T192139Z
LAST-MODIFIED:20250722T192518Z
UID:10000095-1757149200-1757178000@ccc.pca.org
SUMMARY:Drive & Dine - Shop Tour
DESCRIPTION:We will meet at Porsche SLO and take back roads to Atascadero where Eros Plateroti will give us a tour of their restoration shop before we adjourn to Chef Gregory’s BBQ Emporium for award winning Memphis barbeque. \nMeet at 9:00 AM for a 9:30 AM departure.
URL:https://ccc.pca.org/calendar-event/drive-dine-shop-tour/
LOCATION:CA
END:VEVENT
BEGIN:VEVENT
DTSTART;TZID=America/Los_Angeles:20250913T110000
DTEND;TZID=America/Los_Angeles:20250913T150000
DTSTAMP:20260422T151356
CREATED:20250722T192311Z
LAST-MODIFIED:20250722T192415Z
UID:10000096-1757761200-1757775600@ccc.pca.org
SUMMARY:New Member BBQ & PCA 70th Anniversary Party
DESCRIPTION:Save the date! \nCome join us for one of the year’s biggest gatherings of old and new members alike. \nMore info to come
URL:https://ccc.pca.org/calendar-event/new-member-bbq-pca-70th-anniversary-party/
LOCATION:CA
END:VEVENT
BEGIN:VEVENT
DTSTART;TZID=America/Los_Angeles:20250927T083000
DTEND;TZID=America/Los_Angeles:20250927T110000
DTSTAMP:20260422T151356
CREATED:20250121T010322Z
LAST-MODIFIED:20250121T011540Z
UID:10000074-1758961800-1758970800@ccc.pca.org
SUMMARY:CCCR Cars & Coffee
DESCRIPTION:Cars & Coffee is held on the last Saturday of every month (except Dec.) at Porsche San Luis Obispo.  Drop by between 8:30am to 11am.  Porsche San Luis Obispo provides coffee and donuts.  No registration is required. All makes and models are welcome. Come for ten minutes; come for two hours! \nALERT – RAIN CANCELS C&C !!!! \nNo signup or registration required! Show up anytime between 8:30am and 11:00am at \nPorsche San Luis Obispo \n12100 Los Osos Valley Road \nSan Luis Obispo CA 93405
URL:https://ccc.pca.org/calendar-event/cccr-cars-coffee-7/2025-09-27/
LOCATION:Porsche San Luis Obispo\, 12100 Los Osos Valley Rd\, San Luis Obispo\, CA\, 93401\, United States
ATTACH;FMTTYPE=image/jpeg:https://ccc.pca.org/wp-content/uploads/2024/04/4O6A5367-scaled.jpg
END:VEVENT
END:VCALENDAR