BEGIN:VCALENDAR
VERSION:2.0
PRODID:-//Porsche Club of America – California Central Coast Region - ECPv6.15.11//NONSGML v1.0//EN
CALSCALE:GREGORIAN
METHOD:PUBLISH
X-ORIGINAL-URL:https://ccc.pca.org
X-WR-CALDESC:Events for Porsche Club of America – California Central Coast Region
REFRESH-INTERVAL;VALUE=DURATION:PT1H
X-Robots-Tag:noindex
X-PUBLISHED-TTL:PT1H
BEGIN:VTIMEZONE
TZID:America/Los_Angeles
BEGIN:DAYLIGHT
TZOFFSETFROM:-0800
TZOFFSETTO:-0700
TZNAME:PDT
DTSTART:20230312T100000
END:DAYLIGHT
BEGIN:STANDARD
TZOFFSETFROM:-0700
TZOFFSETTO:-0800
TZNAME:PST
DTSTART:20231105T090000
END:STANDARD
BEGIN:DAYLIGHT
TZOFFSETFROM:-0800
TZOFFSETTO:-0700
TZNAME:PDT
DTSTART:20240310T100000
END:DAYLIGHT
BEGIN:STANDARD
TZOFFSETFROM:-0700
TZOFFSETTO:-0800
TZNAME:PST
DTSTART:20241103T090000
END:STANDARD
BEGIN:DAYLIGHT
TZOFFSETFROM:-0800
TZOFFSETTO:-0700
TZNAME:PDT
DTSTART:20250309T100000
END:DAYLIGHT
BEGIN:STANDARD
TZOFFSETFROM:-0700
TZOFFSETTO:-0800
TZNAME:PST
DTSTART:20251102T090000
END:STANDARD
END:VTIMEZONE
BEGIN:VEVENT
DTSTART;TZID=America/Los_Angeles:20240330T150000
DTEND;TZID=America/Los_Angeles:20240330T170000
DTSTAMP:20260422T072641
CREATED:20240303T173414Z
LAST-MODIFIED:20240311T014331Z
UID:10000028-1711810800-1711818000@ccc.pca.org
SUMMARY:Mural Dedication & Signing Party - The Stable
DESCRIPTION:CCCR – Mural Dedication and Signing Party \nIf you haven’t yet noticed\, there’s a large and uniquely Porsche mural underway at The Stable\, the independent Porsche service and repair shop at . The mural features a condensed history of Porsche racecars and some local racing history. \nYou are invited to join us 3:00 to 5:00 p.m. on Saturday March 30 for a dedication and signing party presented by The Stable and by the artist\, Chuck Jennings\, and hosted by the California Central Coast Region of PCA. This event will be catered and there will be live music by a great “oldies” band\, Cocktail Shorty. Catering will be offered by Brooks Burgers. If you wish to partake of the catering\, you must RSVP no later than March 25th via motorsportreg.com. Cost is $20\, and that includes your choice of the Bacon Jam Burger\, the Crispy Chicken Burger\, the Black Bean Burger\, or the Brooks Salad. A variety of soft drinks will be included for everyone. If you want to drop in for just the music and ceremony\, no registration is necessary. \nCome help us celebrate this fantastic art work!! \nAs you probably know…….parking is at a premium at/around The Stable……so car pooling is encouraged! \nRegister HERE
URL:https://ccc.pca.org/calendar-event/mural-dedication-signing-party-the-stable/
LOCATION:The Stable\, 750 Francis Avenue\, San Luis Obispo\, 93401\, United States
ATTACH;FMTTYPE=image/jpeg:https://ccc.pca.org/wp-content/uploads/2024/03/The-Stable.jpg
END:VEVENT
END:VCALENDAR